BEGIN:VCALENDAR
VERSION:2.0
PRODID:-//ChamberMaster//Event Calendar 2.0//EN
METHOD:PUBLISH
X-PUBLISHED-TTL:P3D
REFRESH-INTERVAL:P3D
CALSCALE:GREGORIAN
BEGIN:VEVENT
DTSTART;VALUE=DATE:20151006
DTEND;VALUE=DATE:20151011
TRANSP:TRANSPARENT
X-MICROSOFT-CDO-ALLDAYEVENT:TRUE
SUMMARY:105th Annual Halifax County\, Virginia Fair
DESCRIPTION:105th Annual Halifax County\, Virginia Fair
X-ALT-DESC;FMTTYPE=text/html:105th Annual Halifax County\, Virginia Fair
LOCATION:Halifax County Fairgrounds 1188 James D. Hagood Hwy. South Boston\, VA 24592
UID:e.845.4540
SEQUENCE:3
DTSTAMP:20260425T193014Z
URL:https://business.halifaxchamber.net/events/details/105th-annual-halifax-county-virginia-fair-10-06-2015-4540
END:VEVENT

END:VCALENDAR
