BEGIN:VCALENDAR
VERSION:2.0
PRODID:-//ChamberMaster//Event Calendar 2.0//EN
METHOD:PUBLISH
X-PUBLISHED-TTL:P3D
REFRESH-INTERVAL:P3D
CALSCALE:GREGORIAN
BEGIN:VEVENT
DTSTART:20190331T180000Z
DTEND:20190331T210000Z
X-MICROSOFT-CDO-ALLDAYEVENT:FALSE
SUMMARY:11th Annual Vera Bradley Bingo North Halifax Ladies Auxiliary
DESCRIPTION:Celebrating 11 Years of Bingo Fun. North Halifax Ladies Auxiliary 11th Annual Vera Bradley Bingo. Doors open at 1 PM. Raffles- Door Prizes-Concessions.
X-ALT-DESC;FMTTYPE=text/html:Celebrating 11 Years of Bingo Fun. North Halifax Ladies Auxiliary 11th Annual Vera Bradley Bingo. Doors open at 1 PM. Raffles- Door Prizes-Concessions.
LOCATION:North Halifax Fire Dept. 4201 Leda Grove Rd. Nathalie\, VA
UID:e.845.12409
SEQUENCE:3
DTSTAMP:20260421T094046Z
URL:https://business.halifaxchamber.net/events/details/11th-annual-vera-bradley-bingo-north-halifax-ladies-auxiliary-12409
END:VEVENT

END:VCALENDAR
