BEGIN:VCALENDAR
VERSION:2.0
PRODID:-//ChamberMaster//Event Calendar 2.0//EN
METHOD:PUBLISH
X-PUBLISHED-TTL:P3D
REFRESH-INTERVAL:P3D
CALSCALE:GREGORIAN
BEGIN:VEVENT
DTSTART:20170916T130000Z
DTEND:20170916T160000Z
X-MICROSOFT-CDO-ALLDAYEVENT:FALSE
SUMMARY:13th Annual Walk for Hope
DESCRIPTION:13th Annual Walk for Hope to raise funds to benefit cancer patients in Halifax County will be help Saturday September 16 at Halifax County Fairgrounds.  The Centra Mammogram van will be available 8 am to Noon to provide mammograms to any lady over the age of 40 who has not had breast cancer in the last 10 years and who has not had a mammogram.  Appointments are required.  Call 434-476-2714 to make an appointment.  If you do not have health insurance\, you may be eligible for a free mammogram.
X-ALT-DESC;FMTTYPE=text/html:<span style="font-size:14px\;"><span style="font-family:arial\;"><span style="color: rgb(0\, 0\, 0)\;">13th Annual Walk for Hope to raise funds to benefit cancer patients in Halifax County will be help Saturday September 16 at Halifax County Fairgrounds.&nbsp\; The Centra Mammogram van will be available 8 am to Noon to provide mammograms to any lady over the age of 40 who has not had breast cancer in the last 10 years and who has not had a mammogram.&nbsp\; Appointments are required.&nbsp\; Call 434-476-2714 to make an appointment.&nbsp\; If you do not have health insurance\, you may be eligible for a free mammogram.&nbsp\;</span></span></span>
LOCATION:Halifax County Fairgrounds 1188 James D Hagood Highway South Boston\, VA 24592
UID:e.845.5835
SEQUENCE:3
DTSTAMP:20260422T153842Z
URL:https://business.halifaxchamber.net/events/details/13th-annual-walk-for-hope-5835
END:VEVENT

END:VCALENDAR
