BEGIN:VCALENDAR
VERSION:2.0
PRODID:-//ChamberMaster//Event Calendar 2.0//EN
METHOD:PUBLISH
X-PUBLISHED-TTL:P3D
REFRESH-INTERVAL:P3D
CALSCALE:GREGORIAN
BEGIN:VEVENT
DTSTART:20190503T130000Z
DTEND:20190504T010000Z
X-MICROSOFT-CDO-ALLDAYEVENT:FALSE
SUMMARY:16th Annual Halifax County Heritage Festival
DESCRIPTION:16th Annual Halifax County Heritage Festival
X-ALT-DESC;FMTTYPE=text/html:16th Annual Halifax County Heritage Festival
LOCATION:Halifax County Fairgrounds
UID:e.845.11712
SEQUENCE:3
DTSTAMP:20260421T063008Z
URL:https://business.halifaxchamber.net/events/details/16th-annual-halifax-county-heritage-festival-11712
END:VEVENT

END:VCALENDAR
