BEGIN:VCALENDAR
VERSION:2.0
PRODID:-//ChamberMaster//Event Calendar 2.0//EN
METHOD:PUBLISH
X-PUBLISHED-TTL:P3D
REFRESH-INTERVAL:P3D
CALSCALE:GREGORIAN
BEGIN:VEVENT
DTSTART;VALUE=DATE:20151114
DTEND;VALUE=DATE:20151116
TRANSP:TRANSPARENT
X-MICROSOFT-CDO-ALLDAYEVENT:TRUE
SUMMARY:2015 Holiday Living Show presented by the Business Womens Association of Halifax County and Halifax County High School
DESCRIPTION:2015 Holiday Living Sow\n\nArts\, Crafts\, Food & More!\n\nPresented by the Business Women's Association of Halifax County and Halifax County High School
X-ALT-DESC;FMTTYPE=text/html:2015 Holiday Living Sow<br />\nArts\, Crafts\, Food &amp\; More!<br />\nPresented by the Business Women&#39\;s Association of Halifax County and Halifax County High School&nbsp\;&nbsp\;&nbsp\;&nbsp\;&nbsp\;&nbsp\;&nbsp\;&nbsp\;&nbsp\;
LOCATION:Halifax County High School
UID:e.845.4551
SEQUENCE:3
DTSTAMP:20260425T163247Z
URL:https://business.halifaxchamber.net/events/details/2015-holiday-living-show-presented-by-the-business-womens-association-of-halifax-county-and-halifax-county-high-school-11-14-2015-4551
END:VEVENT

END:VCALENDAR
