BEGIN:VCALENDAR
VERSION:2.0
PRODID:-//ChamberMaster//Event Calendar 2.0//EN
METHOD:PUBLISH
X-PUBLISHED-TTL:P3D
REFRESH-INTERVAL:P3D
CALSCALE:GREGORIAN
BEGIN:VEVENT
DTSTART:20160827T000000Z
DTEND:20160827T033000Z
X-MICROSOFT-CDO-ALLDAYEVENT:FALSE
SUMMARY:2016 Summer Concert Series/ Matt Boswell and the Hillbilly Blues Band
DESCRIPTION:Destination Downtown South Boston presents the Summer Concert Series featuring Matt Boswell and the Hillbilly Blues Band
X-ALT-DESC;FMTTYPE=text/html:Destination Downtown South Boston presents the Summer Concert Series featuring Matt Boswell and the Hillbilly Blues Band
LOCATION:Constitution Square
UID:e.845.4635
SEQUENCE:3
DTSTAMP:20260425T004309Z
URL:https://business.halifaxchamber.net/events/details/2016-summer-concert-series-matt-boswell-and-the-hillbilly-blues-band-08-26-2016-4635
END:VEVENT

END:VCALENDAR
