BEGIN:VCALENDAR
VERSION:2.0
PRODID:-//ChamberMaster//Event Calendar 2.0//EN
METHOD:PUBLISH
X-PUBLISHED-TTL:P3D
REFRESH-INTERVAL:P3D
CALSCALE:GREGORIAN
BEGIN:VEVENT
DTSTART:20180804T140000Z
DTEND:20180804T160000Z
X-MICROSOFT-CDO-ALLDAYEVENT:FALSE
SUMMARY:2018 Back -2-School Expo
DESCRIPTION:2018 Back -2-School Expo Sponsored by Halifax County Public Schools \n\nServices Provided:\n\nAssistance with using parent portal\n\nInformation provided for operations of all schols in the school district\n\nDemonstration of healthy eating dishes\n\nFree food samples\n\nFree blood pressure checks\n\nExploration of Science\, Technology\, Engineering\, and Math lab\n\nConnection with the Mentor Role Model Program Services\n\n\n\nFREE School Supplies. Lunch provided\n\n\n\nMotivational Speakers: Tisha Waller\, Ryland Clark\, Will Worley\, Alonzo Coleman\, Tyrone Davis and Terry Davis.\n\nEntertainment: HCHS Cheerleaders\, HCHS Band\, Sharron Garrett and JROTC Drill Team.
X-ALT-DESC;FMTTYPE=text/html:2018 Back -2-School Expo Sponsored by Halifax County Public Schools&nbsp\;<br />\nServices Provided:<br />\nAssistance with using parent portal<br />\nInformation provided for operations of all schols in the school district<br />\nDemonstration of healthy eating dishes<br />\nFree food samples<br />\nFree blood pressure checks<br />\nExploration of Science\, Technology\, Engineering\, and Math lab<br />\nConnection with the Mentor Role Model Program Services<br />\n<br />\nFREE School Supplies. Lunch provided<br />\n<br />\nMotivational Speakers: Tisha Waller\, Ryland Clark\, Will Worley\, Alonzo Coleman\, Tyrone Davis and Terry Davis.<br />\nEntertainment: HCHS Cheerleaders\, HCHS Band\, Sharron Garrett and JROTC Drill Team.
LOCATION:Halifax County High School
UID:e.845.8484
SEQUENCE:3
DTSTAMP:20260421T203321Z
URL:https://business.halifaxchamber.net/events/details/2018-back-2-school-expo-8484
END:VEVENT

END:VCALENDAR
