BEGIN:VCALENDAR
VERSION:2.0
PRODID:-//ChamberMaster//Event Calendar 2.0//EN
METHOD:PUBLISH
X-PUBLISHED-TTL:P3D
REFRESH-INTERVAL:P3D
CALSCALE:GREGORIAN
BEGIN:VEVENT
DTSTART:20180106T000000Z
DTEND:20180106T020000Z
X-MICROSOFT-CDO-ALLDAYEVENT:FALSE
SUMMARY:2018 Calendar Reveal
DESCRIPTION:Please join Images by Swanson Photography for their 2018 Calendar Reveal.\n\nIt will be held at the South Boston-Halifax County Visitors Center. This year it's about Caroline Laughorns journey as she beat cancer for a second time. \n\n\n\nCalendars are $20.
X-ALT-DESC;FMTTYPE=text/html:Please join Images by Swanson Photography for their 2018 Calendar Reveal.<br />\nIt will be held at the South Boston-Halifax County Visitors Center. This year it&#39\;s about Caroline Laughorns journey as she beat cancer for a second time.&nbsp\;<br />\n<br />\nCalendars are $20.
LOCATION:South Boston-Halifax County Visitor Center 1180 Bill Tuck Hwy South Boston\, VA
UID:e.845.7191
SEQUENCE:3
DTSTAMP:20260422T090531Z
URL:https://business.halifaxchamber.net/events/details/2018-calendar-reveal-7191
END:VEVENT

END:VCALENDAR
