BEGIN:VCALENDAR
VERSION:2.0
PRODID:-//ChamberMaster//Event Calendar 2.0//EN
METHOD:PUBLISH
X-PUBLISHED-TTL:P3D
REFRESH-INTERVAL:P3D
CALSCALE:GREGORIAN
BEGIN:VEVENT
DTSTART:20180823T121500Z
DTEND:20180823T210000Z
X-MICROSOFT-CDO-ALLDAYEVENT:FALSE
SUMMARY:2018 Employer Conference-Virginia Employment Commission
DESCRIPTION:Conference topus will highlight rends in emplyment law and regulations\; unemployment compensation\; social media\, as well as a world cafe employer engagement session on workforce solutions. \n\n\n\nGuest spearker: Dr. Megan Healy\, Chief Workforce Advisor to the Governor
X-ALT-DESC;FMTTYPE=text/html:Conference topus will highlight rends in emplyment law and regulations\; unemployment compensation\; social media\, as well as a world cafe employer engagement session on workforce solutions.&nbsp\;<br />\n<br />\nGuest spearker: Dr. Megan Healy\, Chief Workforce Advisor to the Governor
LOCATION:Wytheville Meeting Center 333 Community Blvd. Wytheville\, VA 24382
UID:e.845.8492
SEQUENCE:3
DTSTAMP:20260421T204410Z
URL:https://business.halifaxchamber.net/events/details/2018-employer-conference-virginia-employment-commission-8492
END:VEVENT

END:VCALENDAR
