BEGIN:VCALENDAR
VERSION:2.0
PRODID:-//ChamberMaster//Event Calendar 2.0//EN
METHOD:PUBLISH
X-PUBLISHED-TTL:P3D
REFRESH-INTERVAL:P3D
CALSCALE:GREGORIAN
BEGIN:VEVENT
DTSTART:20190315T230000Z
DTEND:20190316T030000Z
X-MICROSOFT-CDO-ALLDAYEVENT:FALSE
SUMMARY:2019 Hospice Gala-Diamonds\, Denim and Dice
DESCRIPTION:Sentara Halifax Hospice is excited to present "Diamonds\, Denim\, and Dice" as the theme for the 2019 Hospice Gala taking place on March 15 from 7 to 11pm at the Prizery in Downtown South Boston. Don your best denim\, glam it up with sparkling diamonds\, and join us for exciting casino-style games\, dancing\, music\, heavy Hors d 'Oeuvres\, an open beer and wine bar\, and an evening of glitzy fun.
X-ALT-DESC;FMTTYPE=text/html:<span style="color: rgb(29\, 33\, 41)\; font-family: system-ui\, -apple-system\, system-ui\, &quot\;.SFNSText-Regular&quot\;\, sans-serif\; font-size: 14px\; white-space: pre-wrap\;">Sentara Halifax Hospice is excited to present &ldquo\;Diamonds\, Denim\, and Dice&rdquo\; as the theme for the 2019 Hospice Gala taking place on March 15 from 7 to 11pm at the Prizery in Downtown South Boston. Don your best denim\, glam it up with sparkling diamonds\, and join us for exciting casino-style games\, dancing\, music\, heavy Hors d &lsquo\;Oeuvres\, an open beer and wine bar\, and an evening of glitzy fun. </span>
LOCATION:The Prizery 700 Bruce Street South Boston\, VA
UID:e.845.12005
SEQUENCE:3
DTSTAMP:20260421T093729Z
URL:https://business.halifaxchamber.net/events/details/2019-hospice-gala-diamonds-denim-and-dice-12005
END:VEVENT

END:VCALENDAR
