BEGIN:VCALENDAR
VERSION:2.0
PRODID:-//ChamberMaster//Event Calendar 2.0//EN
METHOD:PUBLISH
X-PUBLISHED-TTL:P3D
REFRESH-INTERVAL:P3D
CALSCALE:GREGORIAN
BEGIN:VEVENT
DTSTART;VALUE=DATE:20200331
DTEND;VALUE=DATE:20200401
TRANSP:TRANSPARENT
X-MICROSOFT-CDO-ALLDAYEVENT:TRUE
SUMMARY:2020-2021 REGISTRATION at First Baptist Weekday School
DESCRIPTION:2020-2021 Registration\n\nFirst Baptist Weekday School\n\nMarch 2\, 2020\n\n\n\nTo register your child at FBWS\, the following information is needed:  \n\n\n	registration form \n	non-refundable registration fee\n	copy of birth certificate  (before school starts in August)\n	copy of immunization records (before school starts in August)
X-ALT-DESC;FMTTYPE=text/html:<div style="text-align:center"><span style="font-size:20px"><span style="font-family:verdana"><span style="font-size:14px"><strong>2020-2021 Registration</strong></span><br />\n<span style="font-size:16px"><strong>First Baptist</strong> <strong>Weekday School</strong></span><br />\n<strong><span style="font-size:14px">March 2\, 2020</span></strong></span></span></div>\n\n<div><br />\n<span style="font-size:20px"><span style="font-family:verdana"><strong><span style="font-size:14px">To register your child at FBWS\, the following information is needed: &nbsp\;</span></strong></span></span></div>\n\n<ol>\n	<li>registration form&nbsp\;</li>\n	<li>non-refundable registration fee</li>\n	<li>copy of birth certificate &nbsp\;(before school starts in August)</li>\n	<li>copy of immunization records (before school starts in August)</li>\n</ol>\n\n<div><br />\n&nbsp\;</div>\n\n<div style="text-align:center">&nbsp\;</div>\n\n<div>&nbsp\;</div>\n
LOCATION:815 North Main Street First Baptist Weekday School\, an outreach of First Baptist Church South Boston\, VA 24592
UID:e.845.17279
SEQUENCE:3
DTSTAMP:20260420T152106Z
URL:https://business.halifaxchamber.net/events/details/2020-2021-registration-at-first-baptist-weekday-school-03-31-2020-17279
END:VEVENT

END:VCALENDAR
