BEGIN:VCALENDAR
VERSION:2.0
PRODID:-//ChamberMaster//Event Calendar 2.0//EN
METHOD:PUBLISH
X-PUBLISHED-TTL:P3D
REFRESH-INTERVAL:P3D
CALSCALE:GREGORIAN
BEGIN:VEVENT
DTSTART:20181018T140000Z
DTEND:20181018T200000Z
X-MICROSOFT-CDO-ALLDAYEVENT:FALSE
SUMMARY:2nd Annual Lake Country Community Wide Job Fair
DESCRIPTION:JOB FAIR
X-ALT-DESC;FMTTYPE=text/html:JOB FAIR
LOCATION:Estes Community Center 316 N. Main Street Chase city\, VA 23924
UID:e.845.8511
SEQUENCE:3
DTSTAMP:20260421T171747Z
URL:https://business.halifaxchamber.net/events/details/2nd-annual-lake-country-community-wide-job-fair-8511
END:VEVENT

END:VCALENDAR
