BEGIN:VCALENDAR
VERSION:2.0
PRODID:-//ChamberMaster//Event Calendar 2.0//EN
METHOD:PUBLISH
X-PUBLISHED-TTL:P3D
REFRESH-INTERVAL:P3D
CALSCALE:GREGORIAN
BEGIN:VEVENT
DTSTART:20171018T221500Z
DTEND:20171019T011500Z
X-MICROSOFT-CDO-ALLDAYEVENT:FALSE
SUMMARY:2nd Annual Octoberfest Brewer's Dinner
DESCRIPTION:2nd Annual Oktoberfest Brewer's Dinner\n\n\n\n6:15 Welcome Brewed Beverage for all guests\n\n6:45 Dinner begins\n\n$50 per guest food\, optional samplings with each course\, and non-alc beverages\n\nCASH BAR WILL BE AVAILABLE ALL NIGHT\n\nLimited Seating Available\n\n\n\nMenu:\n\nRisotto of Pearled Barley\, Acorn Squash & Roasted Mushies\n\nChicken Schnitzel with Spaetzel\n\nTarts Flambe with creme fraiche\, bacon and onions\, topped with parsley and chive\n\nMarzipan German Chocolate Layer Cake\n\n\n\nBreak out the lederhosen! It's Oktoberfest! \n\nThere will be meat! There will be gluten! There will be BEER!\n\nJoin Chef and Beer Maker Paul Anctil for a 4 Course Food & Beer Pairing Dinner featuring German Oktoberfest Inspired Dishes paired with Staunton River Brewing Co. Beers\, served in a casual festhaus atmosphere! \n\nWe'll be breaking out the shotski's\, cornhole will be tossed\, and Paul will be debuting the new Fall seasonal! It's a fun night for friends to enjoy Fall at it's best in Brookneal!
X-ALT-DESC;FMTTYPE=text/html:<span style="color: rgb(75\, 79\, 86)\; font-family: &quot\;SF Optimized&quot\;\, system-ui\, -apple-system\, system-ui\, &quot\;.SFNSText-Regular&quot\;\, sans-serif\; font-size: 14px\; letter-spacing: -0.12px\;">2nd Annual Oktoberfest Brewer&#39\;s Dinner</span><br style="color: rgb(75\, 79\, 86)\; font-family: &quot\;SF Optimized&quot\;\, system-ui\, -apple-system\, system-ui\, &quot\;.SFNSText-Regular&quot\;\, sans-serif\; font-size: 14px\; letter-spacing: -0.12px\;" />\n<br style="color: rgb(75\, 79\, 86)\; font-family: &quot\;SF Optimized&quot\;\, system-ui\, -apple-system\, system-ui\, &quot\;.SFNSText-Regular&quot\;\, sans-serif\; font-size: 14px\; letter-spacing: -0.12px\;" />\n<span style="color: rgb(75\, 79\, 86)\; font-family: &quot\;SF Optimized&quot\;\, system-ui\, -apple-system\, system-ui\, &quot\;.SFNSText-Regular&quot\;\, sans-serif\; font-size: 14px\; letter-spacing: -0.12px\;">6:15 Welcome Brewed Beverage for all guests</span><br style="color: rgb(75\, 79\, 86)\; font-family: &quot\;SF Optimized&quot\;\, system-ui\, -apple-system\, system-ui\, &quot\;.SFNSText-Regular&quot\;\, sans-serif\; font-size: 14px\; letter-spacing: -0.12px\;" />\n<span style="color: rgb(75\, 79\, 86)\; font-family: &quot\;SF Optimized&quot\;\, system-ui\, -apple-system\, system-ui\, &quot\;.SFNSText-Regular&quot\;\, sans-serif\; font-size: 14px\; letter-spacing: -0.12px\;">6:45 Dinner begins</span><br style="color: rgb(75\, 79\, 86)\; font-family: &quot\;SF Optimized&quot\;\, system-ui\, -apple-system\, system-ui\, &quot\;.SFNSText-Regular&quot\;\, sans-serif\; font-size: 14px\; letter-spacing: -0.12px\;" />\n<span style="color: rgb(75\, 79\, 86)\; font-family: &quot\;SF Optimized&quot\;\, system-ui\, -apple-system\, system-ui\, &quot\;.SFNSText-Regular&quot\;\, sans-serif\; font-size: 14px\; letter-spacing: -0.12px\;">$50 per guest food\, optional samplings with each course\, and non-alc beverages</span><br style="color: rgb(75\, 79\, 86)\; font-family: &quot\;SF Optimized&quot\;\, system-ui\, -apple-system\, system-ui\, &quot\;.SFNSText-Regular&quot\;\, sans-serif\; font-size: 14px\; letter-spacing: -0.12px\;" />\n<span style="color: rgb(75\, 79\, 86)\; font-family: &quot\;SF Optimized&quot\;\, system-ui\, -apple-system\, system-ui\, &quot\;.SFNSText-Regular&quot\;\, sans-serif\; font-size: 14px\; letter-spacing: -0.12px\;">CASH BAR WILL BE AVAILABLE ALL NIGHT</span><br style="color: rgb(75\, 79\, 86)\; font-family: &quot\;SF Optimized&quot\;\, system-ui\, -apple-system\, system-ui\, &quot\;.SFNSText-Regular&quot\;\, sans-serif\; font-size: 14px\; letter-spacing: -0.12px\;" />\n<span style="color: rgb(75\, 79\, 86)\; font-family: &quot\;SF Optimized&quot\;\, system-ui\, -apple-system\, system-ui\, &quot\;.SFNSText-Regular&quot\;\, sans-serif\; font-size: 14px\; letter-spacing: -0.12px\;">Limited Seating Available</span><br style="color: rgb(75\, 79\, 86)\; font-family: &quot\;SF Optimized&quot\;\, system-ui\, -apple-system\, system-ui\, &quot\;.SFNSText-Regular&quot\;\, sans-serif\; font-size: 14px\; letter-spacing: -0.12px\;" />\n<br style="color: rgb(75\, 79\, 86)\; font-family: &quot\;SF Optimized&quot\;\, system-ui\, -apple-system\, system-ui\, &quot\;.SFNSText-Regular&quot\;\, sans-serif\; font-size: 14px\; letter-spacing: -0.12px\;" />\n<span style="color: rgb(75\, 79\, 86)\; font-family: &quot\;SF Optimized&quot\;\, system-ui\, -apple-system\, system-ui\, &quot\;.SFNSText-Regular&quot\;\, sans-serif\; font-size: 14px\; letter-spacing: -0.12px\;">Menu:</span><br style="color: rgb(75\, 79\, 86)\; font-family: &quot\;SF Optimized&quot\;\, system-ui\, -apple-system\, system-ui\, &quot\;.SFNSText-Regular&quot\;\, sans-serif\; font-size: 14px\; letter-spacing: -0.12px\;" />\n<span style="color: rgb(75\, 79\, 86)\; font-family: &quot\;SF Optimized&quot\;\, system-ui\, -apple-system\, system-ui\, &quot\;.SFNSText-Regular&quot\;\, sans-serif\; font-size: 14px\; letter-spacing: -0.12px\;">Risotto of Pearled Barley\, Acorn Squash &amp\; Roasted Mushies</span><br style="color: rgb(75\, 79\, 86)\; font-family: &quot\;SF Optimized&quot\;\, system-ui\, -apple-system\, system-ui\, &quot\;.SFNSText-Regular&quot\;\, sans-serif\; font-size: 14px\; letter-spacing: -0.12px\;" />\n<span style="color: rgb(75\, 79\, 86)\; font-family: &quot\;SF Optimized&quot\;\, system-ui\, -apple-system\, system-ui\, &quot\;.SFNSText-Regular&quot\;\, sans-serif\; font-size: 14px\; letter-spacing: -0.12px\;">Chicken Schnitzel with Spaetzel</span><br />\n<span class="text_exposed_show" style="display: inline\; font-family: &quot\;SF Optimized&quot\;\, system-ui\, -apple-system\, system-ui\, &quot\;.SFNSText-Regular&quot\;\, sans-serif\; color: rgb(75\, 79\, 86)\; font-size: 14px\; letter-spacing: -0.12px\;">Tarts Flambe with creme fraiche\, bacon and onions\, topped with parsley and chive<br />\nMarzipan German Chocolate Layer Cake<br />\n<br />\nBreak out the lederhosen! It&#39\;s Oktoberfest!&nbsp\;<br />\nThere will be meat! There will be gluten! There will be BEER!<br />\nJoin Chef and Beer Maker Paul Anctil for a 4 Course Food &amp\; Beer Pairing Dinner featuring German Oktoberfest Inspired Dishes paired with Staunton River Brewing Co. Beers\, served in a casual festhaus atmosphere!&nbsp\;<br />\nWe&#39\;ll be breaking out the shotski&#39\;s\, cornhole will be tossed\, and Paul will be debuting the new Fall seasonal! It&#39\;s a fun night for friends to enjoy Fall at it&#39\;s best in Brookneal!</span>
LOCATION:Staunton River Brewing Co. Beer Pavilion 1571 Mount Calvary Rd Brookneal VA 24528
UID:e.845.7131
SEQUENCE:3
DTSTAMP:20260422T135612Z
URL:https://business.halifaxchamber.net/events/details/2nd-annual-octoberfest-brewer-s-dinner-7131
END:VEVENT

END:VCALENDAR
