BEGIN:VCALENDAR
VERSION:2.0
PRODID:-//ChamberMaster//Event Calendar 2.0//EN
METHOD:PUBLISH
X-PUBLISHED-TTL:P3D
REFRESH-INTERVAL:P3D
CALSCALE:GREGORIAN
BEGIN:VEVENT
DTSTART:20190621T220000Z
DTEND:20190622T010000Z
X-MICROSOFT-CDO-ALLDAYEVENT:FALSE
SUMMARY:2nd Annual Scratch-n-Sniff at Springfield
DESCRIPTION:Fundraiser for the Halifax County SPCA Paws and Claws. Help support this non-profit group of volunteers who rescue from the county shelter and find new homes for these displaced pets. They'll also help you spay and neuter your pet if you can't afford it. And...they're working on a new dog park too! y'all c'mon!
X-ALT-DESC;FMTTYPE=text/html:<span style="caret-color: rgb(29\, 33\, 41)\; color: rgb(29\, 33\, 41)\; font-family: system-ui\, -apple-system\, BlinkMacSystemFont\, &quot\;.SFNSText-Regular&quot\;\, sans-serif\; font-size: 14px\; white-space: pre-wrap\; background-color: rgb(255\, 255\, 255)\;">Fundraiser for the Halifax County SPCA Paws and Claws. Help support this non-profit group of volunteers who rescue from the county shelter and find new homes for these displaced pets. They&#39\;ll also help you spay and neuter your pet if you can&#39\;t afford it. And...they&#39\;re working on a new dog park too! y&#39\;all c&#39\;mon!</span>
LOCATION:Springfield Distillery Halifax\, VA 24558
UID:e.845.12380
SEQUENCE:3
DTSTAMP:20260421T044103Z
URL:https://business.halifaxchamber.net/events/details/2nd-annual-scratch-n-sniff-at-springfield-12380
END:VEVENT

END:VCALENDAR
