BEGIN:VCALENDAR
VERSION:2.0
PRODID:-//ChamberMaster//Event Calendar 2.0//EN
METHOD:PUBLISH
X-PUBLISHED-TTL:P3D
REFRESH-INTERVAL:P3D
CALSCALE:GREGORIAN
BEGIN:VEVENT
DTSTART:20200430T170000Z
DTEND:20200430T180000Z
X-MICROSOFT-CDO-ALLDAYEVENT:FALSE
SUMMARY:3 Things You Can Do to Connect with Your Customers During Social Distancing
DESCRIPTION:Connecting with your employees\, clients\, and other contacts is critical during social distancing. Join us to hear about three easy ways you can maintain personal connections and maintain trust during social distancing. Specifically\, we'll show you how to easy and fun it is to use video in emails\, on your website\, and for social media postings. We'll demonstrate easy things you can add to your website for additional customer service during this time. Last\, we'll talk about best email practices to keep your clients engaged.\n\n\n\nPresented by: Jeff Nicely
X-ALT-DESC;FMTTYPE=text/html:<span style="color: rgb(11\, 11\, 11)\; font-family: Arial\, Verdana\, Helvetica\, sans-serif\; font-size: 14px\;">Connecting with your employees\, clients\, and other contacts is critical during social distancing.&nbsp\;Join us to hear about three easy ways you can maintain personal connections and maintain trust during social distancing. Specifically\, we&rsquo\;ll show you how to easy and fun it is to use video in emails\, on your website\, and for social media postings.&nbsp\;We&rsquo\;ll demonstrate easy things you can add to your website for additional customer service during this time.&nbsp\;Last\, we&rsquo\;ll talk about best email practices to keep your clients engaged.<br />\n<br />\nPresented by: Jeff Nicely</span>
LOCATION:Register at: https://clients.virginiasbdc.org/workshop.aspx?ekey=900400012
UID:e.845.17579
SEQUENCE:3
DTSTAMP:20260420T132519Z
URL:https://business.halifaxchamber.net/events/details/3-things-you-can-do-to-connect-with-your-customers-during-social-distancing-17579
END:VEVENT

END:VCALENDAR
