BEGIN:VCALENDAR
VERSION:2.0
PRODID:-//ChamberMaster//Event Calendar 2.0//EN
METHOD:PUBLISH
X-PUBLISHED-TTL:P3D
REFRESH-INTERVAL:P3D
CALSCALE:GREGORIAN
BEGIN:VEVENT
DTSTART:20161120T180000Z
DTEND:20161120T220000Z
X-MICROSOFT-CDO-ALLDAYEVENT:FALSE
SUMMARY:30th Annual South Boston Christmas Open House
DESCRIPTION:It's a Holiday Tradition! Downtown stores will be open for your holiday shopping pleasure.\n\n\n\nTake your picture with Santa.\n\n\n\nRegister to win a gift certificate from participating merchants and enter to win a $100 Downtown Gift Certificate.
X-ALT-DESC;FMTTYPE=text/html:It&#39\;s a Holiday Tradition! Downtown stores will be open for your holiday shopping pleasure.<br />\n<br />\nTake your picture with Santa.<br />\n<br />\nRegister to win a gift certificate from participating merchants and enter to win a $100 Downtown Gift Certificate.
LOCATION:Downtown South Boston
UID:e.845.5743
SEQUENCE:3
DTSTAMP:20260424T193436Z
URL:https://business.halifaxchamber.net/events/details/30th-annual-south-boston-christmas-open-house-5743
END:VEVENT

END:VCALENDAR
