BEGIN:VCALENDAR
VERSION:2.0
PRODID:-//ChamberMaster//Event Calendar 2.0//EN
METHOD:PUBLISH
X-PUBLISHED-TTL:P3D
REFRESH-INTERVAL:P3D
CALSCALE:GREGORIAN
BEGIN:VEVENT
DTSTART:20181118T180000Z
DTEND:20181118T220000Z
X-MICROSOFT-CDO-ALLDAYEVENT:FALSE
SUMMARY:32nd Annual Downtown South Boston Christmas Open House
DESCRIPTION:Come start the holiday season with our merchants opening their doors for your holiday shopping pleasure. Stroll along enjoying the holiday lights and decorations while listening to the Christmas music piped out onto the street!\n\n\n\nC Action Photography by David Conner II will be printing Santa pictures onsite at Divine Decor 7 More\, 420 Main Street from 1 - 4:00. \n\n\n\n4x6 - $5 | 5x7 - $8 | 8x10 - $15. Various backgrounds available.\n\n\n\nYou are also welcome to bring your own camera and visit with Santa! \n\n\n\nRegister to win $100 Downtown Gift Certificate!\n\n\n\nSponsored by Destination Downtown South Boston. \n\nThank you for Shopping Local & Supporting Our Community's Economy!\n\n\n\nEmail info@downtownsobo.com or call 434-575-4209 for more information.
X-ALT-DESC;FMTTYPE=text/html:<span style="caret-color: rgb(56\, 87\, 26)\; color: rgb(56\, 87\, 26)\; font-family: Futura\; font-size: 18px\; text-align: justify\; -webkit-text-stroke-color: rgb(0\, 0\, 0)\; background-color: rgb(223\, 253\, 223)\;">Come start the holiday season with our merchants opening their doors for your holiday shopping pleasure. Stroll along enjoying the holiday lights and decorations while listening to the Christmas music piped out onto the street!</span><br style="caret-color: rgb(56\, 87\, 26)\; color: rgb(56\, 87\, 26)\; font-family: Futura\; font-size: 18px\; text-align: justify\; -webkit-text-stroke-color: rgb(0\, 0\, 0)\;" />\n<br style="caret-color: rgb(56\, 87\, 26)\; color: rgb(56\, 87\, 26)\; font-family: Futura\; font-size: 18px\; text-align: justify\; -webkit-text-stroke-color: rgb(0\, 0\, 0)\;" />\n<span style="caret-color: rgb(56\, 87\, 26)\; color: rgb(56\, 87\, 26)\; font-family: Futura\; font-size: 18px\; text-align: justify\; -webkit-text-stroke-color: rgb(0\, 0\, 0)\; background-color: rgb(223\, 253\, 223)\;">C Action Photography by David Conner II will be printing Santa pictures onsite at Divine Decor 7 More\, 420 Main Street from 1 - 4:00.&nbsp\;</span><br style="caret-color: rgb(56\, 87\, 26)\; color: rgb(56\, 87\, 26)\; font-family: Futura\; font-size: 18px\; text-align: justify\; -webkit-text-stroke-color: rgb(0\, 0\, 0)\;" />\n<br style="caret-color: rgb(56\, 87\, 26)\; color: rgb(56\, 87\, 26)\; font-family: Futura\; font-size: 18px\; text-align: justify\; -webkit-text-stroke-color: rgb(0\, 0\, 0)\;" />\n<span style="caret-color: rgb(56\, 87\, 26)\; color: rgb(56\, 87\, 26)\; font-family: Futura\; font-size: 18px\; text-align: justify\; -webkit-text-stroke-color: rgb(0\, 0\, 0)\; background-color: rgb(223\, 253\, 223)\;">4x6 - $5 | 5x7 - $8 | 8x10 - $15. Various backgrounds available.</span><br style="caret-color: rgb(56\, 87\, 26)\; color: rgb(56\, 87\, 26)\; font-family: Futura\; font-size: 18px\; text-align: justify\; -webkit-text-stroke-color: rgb(0\, 0\, 0)\;" />\n<br style="caret-color: rgb(56\, 87\, 26)\; color: rgb(56\, 87\, 26)\; font-family: Futura\; font-size: 18px\; text-align: justify\; -webkit-text-stroke-color: rgb(0\, 0\, 0)\;" />\n<span style="caret-color: rgb(56\, 87\, 26)\; color: rgb(56\, 87\, 26)\; font-family: Futura\; font-size: 18px\; text-align: justify\; -webkit-text-stroke-color: rgb(0\, 0\, 0)\; background-color: rgb(223\, 253\, 223)\;">You are also welcome to bring your own camera and visit with Santa!&nbsp\;</span><br style="caret-color: rgb(56\, 87\, 26)\; color: rgb(56\, 87\, 26)\; font-family: Futura\; font-size: 18px\; text-align: justify\; -webkit-text-stroke-color: rgb(0\, 0\, 0)\;" />\n<br style="caret-color: rgb(56\, 87\, 26)\; color: rgb(56\, 87\, 26)\; font-family: Futura\; font-size: 18px\; text-align: justify\; -webkit-text-stroke-color: rgb(0\, 0\, 0)\;" />\n<strong style="caret-color: rgb(56\, 87\, 26)\; color: rgb(56\, 87\, 26)\; font-family: Futura\; font-size: 18px\; text-align: justify\; -webkit-text-stroke-color: rgb(0\, 0\, 0)\;">Register to win $100 Downtown Gift Certificate!</strong><br style="caret-color: rgb(56\, 87\, 26)\; color: rgb(56\, 87\, 26)\; font-family: Futura\; font-size: 18px\; text-align: justify\; -webkit-text-stroke-color: rgb(0\, 0\, 0)\;" />\n<br style="caret-color: rgb(56\, 87\, 26)\; color: rgb(56\, 87\, 26)\; font-family: Futura\; font-size: 18px\; text-align: justify\; -webkit-text-stroke-color: rgb(0\, 0\, 0)\;" />\n<span style="caret-color: rgb(56\, 87\, 26)\; color: rgb(56\, 87\, 26)\; font-family: Futura\; font-size: 18px\; text-align: justify\; -webkit-text-stroke-color: rgb(0\, 0\, 0)\; background-color: rgb(223\, 253\, 223)\;">Sponsored by Destination Downtown South Boston.&nbsp\;</span><br style="caret-color: rgb(56\, 87\, 26)\; color: rgb(56\, 87\, 26)\; font-family: Futura\; font-size: 18px\; text-align: justify\; -webkit-text-stroke-color: rgb(0\, 0\, 0)\;" />\n<span style="caret-color: rgb(56\, 87\, 26)\; color: rgb(56\, 87\, 26)\; font-family: Futura\; font-size: 18px\; text-align: justify\; -webkit-text-stroke-color: rgb(0\, 0\, 0)\; background-color: rgb(223\, 253\, 223)\;">Thank you for Shopping Local &amp\; Supporting Our Community&#39\;s Economy!</span><br style="caret-color: rgb(56\, 87\, 26)\; color: rgb(56\, 87\, 26)\; font-family: Futura\; font-size: 18px\; text-align: justify\; -webkit-text-stroke-color: rgb(0\, 0\, 0)\;" />\n<br style="caret-color: rgb(56\, 87\, 26)\; color: rgb(56\, 87\, 26)\; font-family: Futura\; font-size: 18px\; text-align: justify\; -webkit-text-stroke-color: rgb(0\, 0\, 0)\;" />\n<span style="caret-color: rgb(56\, 87\, 26)\; color: rgb(56\, 87\, 26)\; font-family: Futura\; font-size: 18px\; text-align: justify\; -webkit-text-stroke-color: rgb(0\, 0\, 0)\; background-color: rgb(223\, 253\, 223)\;">Email&nbsp\;</span><a href="mailto:info@downtownsobo.com" style="text-decoration: none\; color: rgb(0\, 51\, 255)\; font-family: Futura\; font-size: 18px\; text-align: justify\; -webkit-text-stroke-color: rgb(0\, 0\, 0)\;">info@downtownsobo.com</a><span style="caret-color: rgb(56\, 87\, 26)\; color: rgb(56\, 87\, 26)\; font-family: Futura\; font-size: 18px\; text-align: justify\; -webkit-text-stroke-color: rgb(0\, 0\, 0)\; background-color: rgb(223\, 253\, 223)\;">&nbsp\;or call 434-575-4209 for more information.</span>
LOCATION:Downtown South Boston
UID:e.845.8578
SEQUENCE:3
DTSTAMP:20260421T171624Z
URL:https://business.halifaxchamber.net/events/details/32nd-annual-downtown-south-boston-christmas-open-house-8578
END:VEVENT

END:VCALENDAR
