BEGIN:VCALENDAR
VERSION:2.0
PRODID:-//ChamberMaster//Event Calendar 2.0//EN
METHOD:PUBLISH
X-PUBLISHED-TTL:P3D
REFRESH-INTERVAL:P3D
CALSCALE:GREGORIAN
BEGIN:VEVENT
DTSTART:20171103T110000Z
DTEND:20171103T110000Z
X-MICROSOFT-CDO-ALLDAYEVENT:FALSE
SUMMARY:35th Annual Pancake Day
DESCRIPTION:Join the Rotary Club of South Boston and the Tuesday Women's Club for our Annual Pancake Breakfast! This is a fun networking event that raises funds for scholarship awards to local students as well as other community service projects. ~ Friday\, November 3\, 2017\, 7:00 a.m. until 7:00 p.m. at Halifax Country Club\, 5136 Halifax Road\, Halifax\, Virginia\n\n\n\n~ Contact Camilla McCoy ~ 434.728.0794 / camilla.mccoy@acadiahealthcare.com ~ or ~ Amanda Moseley / amanda.moseley@acadiahealthcare.com~ 434.907.2966 ~ by call/text/emailMessenger/FB for ticket information\n\n\n\nhttps://www.facebook.com/events/1530365213686327/?acontext=%7B%22ref%22%3A%223%22%2C%22ref_newsfeed_story_type%22%3A%22regular%22%2C%22feed_story_type%22%3A%22263%22%2C%22action_history%22%3A%22null%22%7D
X-ALT-DESC;FMTTYPE=text/html:<span style="color:rgb(75\, 79\, 86)\; font-family:sf optimized\,system-ui\,-apple-system\,blinkmacsystemfont\,.sfnstext-regular\,sans-serif\; font-size:14px">Join the Rotary Club of South Boston and the Tuesday Women&#39\;s Club for our Annual Pancake Breakfast! This is a fun networking event that raises funds for scholarship awards to local students as well as other community service projects. ~ Friday\, November 3\, 2017\, 7:00 a.m. until 7:00 p.m. at Halifax Country Club\, 5136 Halifax Road\, Halifax\, Virginia<br />\n<br />\n~ Contact Camilla McCoy ~ 434.728.0794 /</span><span style="color:rgb(75\, 79\, 86)\; font-family:sf optimized\,system-ui\,-apple-system\,blinkmacsystemfont\,.sfnstext-regular\,sans-serif\; font-size:14px">&nbsp\;camilla.mccoy@acadiahealthca</span><span style="color:rgb(75\, 79\, 86)\; font-family:sf optimized\,system-ui\,-apple-system\,blinkmacsystemfont\,.sfnstext-regular\,sans-serif\; font-size:14px">re.com ~ or ~ Amanda Moseley /</span><span style="color:rgb(75\, 79\, 86)\; font-family:sf optimized\,system-ui\,-apple-system\,blinkmacsystemfont\,.sfnstext-regular\,sans-serif\; font-size:14px">&nbsp\;amanda.moseley@acadiahealthc</span><span style="color:rgb(75\, 79\, 86)\; font-family:sf optimized\,system-ui\,-apple-system\,blinkmacsystemfont\,.sfnstext-regular\,sans-serif\; font-size:14px">are.com~ 434.907.2966 ~ by call/text/emailMessenger/FB for ticket information</span><br />\n<br />\nhttps://www.facebook.com/events/1530365213686327/?acontext=%7B%22ref%22%3A%223%22%2C%22ref_newsfeed_story_type%22%3A%22regular%22%2C%22feed_story_type%22%3A%22263%22%2C%22action_history%22%3A%22null%22%7D
LOCATION:Halifax Country Club 5136 Halifax Road Halifax\, VA 24558
UID:e.845.7094
SEQUENCE:3
DTSTAMP:20260422T121025Z
URL:https://business.halifaxchamber.net/events/details/35th-annual-pancake-day-11-03-2017-7094
END:VEVENT

END:VCALENDAR
