BEGIN:VCALENDAR
VERSION:2.0
PRODID:-//ChamberMaster//Event Calendar 2.0//EN
METHOD:PUBLISH
X-PUBLISHED-TTL:P3D
REFRESH-INTERVAL:P3D
CALSCALE:GREGORIAN
BEGIN:VEVENT
DTSTART:20150612T210000Z
DTEND:20150613T020000Z
X-MICROSOFT-CDO-ALLDAYEVENT:FALSE
SUMMARY:35th Virginia Cantaloupe Festival
DESCRIPTION:Buy your tickets online at www.valopefest.com starting March 1\, 2015.\n\n\n\nThe 35th Annual Virginia Cantaloupe Festival will be held Friday\, June 12\, 2015\, at Berry Hill Resort and Conference Center. Your Ticket includes All Food\, Beverages and Entertainment!\n\n \n\nPlease note:\n\n\n\n\n- Proper ID Required for alcoholic beverage consumption\n\n- ID must be kept on person at all times\n\n- Please Think When You Drive! Bring a designated driver with your group\, and play it safe.\n\n \n\n\n\nBuy your tickets online at www.valopefest.com.
X-ALT-DESC;FMTTYPE=text/html:<div class="section toggle-all-details" id="description" style="overflow: hidden\; font-family: 'Helvetica Neue'\, Helvetica\, arial\, sans-serif\; font-size: 16px\; margin-bottom: 20px\;">\n<div class="description truncate richtext" id="description_text" style="margin: 0px\; padding: 0px\; line-height: 18px\; font-size: 12px\;">\n<p class="rich-large" style="border-width: 0px\; margin: 8px 0px 4px\; padding: 0px\; font-size: 16px\; font-weight: bold\; text-shadow: none\;"><strong style="color: rgb(94\, 94\, 94)\;"><span style="color: rgb(0\, 0\, 205)\;">Buy your tickets online at <a href="http://www.valopefest.com">www.valopefest.com</a>&nbsp\;starting March 1\, 2015.</span></strong><br />\n<br />\n<font color="#0000cd">The 35th Annual Virginia Cantaloupe Festival will be held Friday\, June 12\, 2015\, at Berry Hill Resort and Conference Center.&nbsp\;</font><strong style="color: rgb(94\, 94\, 94)\;"><span style="color: rgb(0\, 0\, 205)\;">Your Ticket&nbsp\;includes All&nbsp\;Food\, Beverages and Entertainment!</span></strong><br />\n&nbsp\;</p>\n\n<p style="color: rgb(94\, 94\, 94)\; margin: 0px 0px 6px\; padding: 0px\;"><a href="http://www.cammy.org/winners.html" style="color: rgb(17\, 85\, 204)\;" target="_blank"><span style="color: rgb(102\, 102\, 102)\; font-size: 10px\;">Please note:</span></a></p>\n</div>\n</div>\n\n<div style="font-family: arial\, sans-serif\; font-size: 13px\;">\n<div class="restrictions truncate" font-size:="" helvetica="" id="restriction_text" style="color: rgb(102\, 102\, 102)\; line-height: 13px\; font-family: "><a href="http://www.cammy.org/winners.html" style="color: rgb(17\, 85\, 204)\;" target="_blank">- Proper ID Required for alcoholic beverage consumption<br />\n- ID must be kept on person at all times<br />\n- Please Think When You Drive! Bring a designated driver with your group\, and play it safe.</a></div>\n\n<div>&nbsp\;</div>\n</div>\n<br />\nBuy your tickets online at <a href="http://www.valopefest.com">www.valopefest.com</a>.<br />\n<br />\n<br />\n&nbsp\;
LOCATION:Berry Hill Resort & Conference Center
UID:e.845.2482
SEQUENCE:3
DTSTAMP:20260426T001415Z
URL:https://business.halifaxchamber.net/events/details/35th-virginia-cantaloupe-festival-06-12-2015-2482
END:VEVENT

END:VCALENDAR
