BEGIN:VCALENDAR
VERSION:2.0
PRODID:-//ChamberMaster//Event Calendar 2.0//EN
METHOD:PUBLISH
X-PUBLISHED-TTL:P3D
REFRESH-INTERVAL:P3D
CALSCALE:GREGORIAN
BEGIN:VEVENT
DTSTART:20191101T110000Z
DTEND:20191101T230000Z
X-MICROSOFT-CDO-ALLDAYEVENT:FALSE
SUMMARY:37th Annual Pancake Day
DESCRIPTION:South Boston Rotary and Tuesday Women's Club invite you to their 37th Annual Pancake Day. Come enjoy pancakes and sausage.
X-ALT-DESC;FMTTYPE=text/html:South Boston Rotary and Tuesday Women&#39\;s Club invite you to their 37th Annual Pancake Day. Come enjoy pancakes and sausage.<br />\n&nbsp\;
LOCATION:Halifax Country Club 5136 Halifax Road Halifax\, VA 24558
UID:e.845.13451
SEQUENCE:3
DTSTAMP:20260420T215004Z
URL:https://business.halifaxchamber.net/events/details/37th-annual-pancake-day-13451
END:VEVENT

END:VCALENDAR
