BEGIN:VCALENDAR
VERSION:2.0
PRODID:-//ChamberMaster//Event Calendar 2.0//EN
METHOD:PUBLISH
X-PUBLISHED-TTL:P3D
REFRESH-INTERVAL:P3D
CALSCALE:GREGORIAN
BEGIN:VEVENT
DTSTART;VALUE=DATE:20161007
DTEND;VALUE=DATE:20161008
TRANSP:TRANSPARENT
X-MICROSOFT-CDO-ALLDAYEVENT:TRUE
SUMMARY:3rd Annual Chamber Fall Classic Golf Tournament
DESCRIPTION:Get into the competitive spirit with our third Annual Chamber Fall Classic Golf Tournament. Slots are open to members and players from across the region\, and we encourage you to sign up for exciting and friendly foursome play.
X-ALT-DESC;FMTTYPE=text/html:Get into the competitive spirit with our third Annual Chamber Fall Classic Golf Tournament. Slots are open to members and players from across the region\, and we encourage you to sign up for exciting and friendly foursome play.
LOCATION:Halifax Country Club 5136 Halifax Road Halifax\, VA 24558
UID:e.845.4630
SEQUENCE:3
DTSTAMP:20260424T211437Z
URL:https://business.halifaxchamber.net/events/details/3rd-annual-chamber-fall-classic-golf-tournament-10-07-2016-4630
END:VEVENT

END:VCALENDAR
