BEGIN:VCALENDAR
VERSION:2.0
PRODID:-//ChamberMaster//Event Calendar 2.0//EN
METHOD:PUBLISH
X-PUBLISHED-TTL:P3D
REFRESH-INTERVAL:P3D
CALSCALE:GREGORIAN
BEGIN:VEVENT
DTSTART:20180324T160000Z
DTEND:20180324T160000Z
X-MICROSOFT-CDO-ALLDAYEVENT:FALSE
SUMMARY:3rd Annual Hunting Creek Gala
DESCRIPTION:Hunting Creek Vineyards is holding their 3rd Annual Gala at the Halifax Country Club on Saturday\, March 23rd from 7:00am - 12:00pm. \n\n\n\nWith anticipation of bud break around the corner\, this years theme will be Spring! Please purchase your tickets here.
X-ALT-DESC;FMTTYPE=text/html:Hunting Creek Vineyards is holding their 3rd Annual Gala at the Halifax Country Club on Saturday\, March 23rd from 7:00am - 12:00pm.&nbsp\;<br />\n<br />\nWith anticipation of bud break around the corner\, this years theme will be Spring! Please purchase your tickets <a href="https://www.hcvwines.com/wine-club-1">here</a>.<br />\n<br />\n&nbsp\;
LOCATION:Halifax Country Club 5126 Halifax Road Halifax\, VA
UID:e.845.7194
SEQUENCE:3
DTSTAMP:20260422T070553Z
URL:https://business.halifaxchamber.net/events/details/3rd-annual-hunting-creek-gala-7194
END:VEVENT

END:VCALENDAR
