BEGIN:VCALENDAR
VERSION:2.0
PRODID:-//ChamberMaster//Event Calendar 2.0//EN
METHOD:PUBLISH
X-PUBLISHED-TTL:P3D
REFRESH-INTERVAL:P3D
CALSCALE:GREGORIAN
BEGIN:VEVENT
DTSTART:20180928T120000Z
DTEND:20180928T210000Z
X-MICROSOFT-CDO-ALLDAYEVENT:FALSE
SUMMARY:5th Annual Chamber Fall Classic Golf Tournament
DESCRIPTION:Get into the competitive spirit with our fourth Annual Chamber Fall Classic Golf Tournament. Slots are open to members and players from across the region\, and we encourage you to sign up for exciting and friendly foursome play.
X-ALT-DESC;FMTTYPE=text/html:Get into the competitive spirit with our fourth Annual Chamber Fall Classic Golf Tournament. Slots are open to members and players from across the region\, and we encourage you to sign up for exciting and friendly foursome play.
LOCATION:Halifax Country Club 5136 Halifax Road Halifax\, VA 24558
UID:e.845.7239
SEQUENCE:3
DTSTAMP:20260421T190333Z
URL:https://business.halifaxchamber.net/events/details/5th-annual-chamber-fall-classic-golf-tournament-7239
END:VEVENT

END:VCALENDAR
