BEGIN:VCALENDAR
VERSION:2.0
PRODID:-//ChamberMaster//Event Calendar 2.0//EN
METHOD:PUBLISH
X-PUBLISHED-TTL:P3D
REFRESH-INTERVAL:P3D
CALSCALE:GREGORIAN
BEGIN:VEVENT
DTSTART:20191018T220000Z
DTEND:20191019T010000Z
X-MICROSOFT-CDO-ALLDAYEVENT:FALSE
SUMMARY:6 to 9 at the State Line
DESCRIPTION:Virgilina VFD presents 6 to 9 at the State Line.\n\nFree Admission. Gates Open at 5:30. Music from 6-9. Bring your chairs.\n\nNo coolers. No pets. No outside food or beverages allowed. \n\nEnjoy food\, cold beverages and a great time.
X-ALT-DESC;FMTTYPE=text/html:Virgilina VFD presents 6 to 9 at the State Line.<br />\nFree Admission. Gates Open at 5:30. Music from 6-9. Bring your chairs.<br />\nNo coolers. No pets. No outside food or beverages allowed.&nbsp\;<br />\nEnjoy food\, cold beverages and a great time.
LOCATION:Virgilina VFD 8052 Florence Ave Virgilina\, VA
UID:e.845.13440
SEQUENCE:3
DTSTAMP:20260420T215746Z
URL:https://business.halifaxchamber.net/events/details/6-to-9-at-the-state-line-13440
END:VEVENT

END:VCALENDAR
