BEGIN:VCALENDAR
VERSION:2.0
PRODID:-//ChamberMaster//Event Calendar 2.0//EN
METHOD:PUBLISH
X-PUBLISHED-TTL:P3D
REFRESH-INTERVAL:P3D
CALSCALE:GREGORIAN
BEGIN:VEVENT
DTSTART:20171014T230000Z
DTEND:20171015T030000Z
X-MICROSOFT-CDO-ALLDAYEVENT:FALSE
SUMMARY:60's\, 70's & 80's Dance Party
DESCRIPTION:Decades Rewind\, Your Music\, Your Memories\, Your Life!!\n\nThe 60's\, 70's & 80's!! Go back in time for one evening and dance the night away! There will be wine\, beer\, sangria and food\, by Vittles SoCo Kitchen\, for purchase.
X-ALT-DESC;FMTTYPE=text/html:<span style="color: rgb(75\, 79\, 86)\; font-family: &quot\;SF Optimized&quot\;\, system-ui\, -apple-system\, system-ui\, &quot\;.SFNSText-Regular&quot\;\, sans-serif\; font-size: 14px\; letter-spacing: -0.12px\;">Decades Rewind\, Your Music\, Your Memories\, Your Life!!</span><br style="color: rgb(75\, 79\, 86)\; font-family: &quot\;SF Optimized&quot\;\, system-ui\, -apple-system\, system-ui\, &quot\;.SFNSText-Regular&quot\;\, sans-serif\; font-size: 14px\; letter-spacing: -0.12px\;" />\n<span style="color: rgb(75\, 79\, 86)\; font-family: &quot\;SF Optimized&quot\;\, system-ui\, -apple-system\, system-ui\, &quot\;.SFNSText-Regular&quot\;\, sans-serif\; font-size: 14px\; letter-spacing: -0.12px\;">The 60&#39\;s\, 70&#39\;s &amp\; 80&#39\;s!! Go back in time for one evening and dance the night away! There will be wine\, beer\, sangria and food\, by Vittles SoCo Kitchen\, for purchase.</span>
LOCATION:Staunton River Brewing Co. 1571 Mount Calvary Road Brookneal\, VA
UID:e.845.7102
SEQUENCE:3
DTSTAMP:20260422T135916Z
URL:https://business.halifaxchamber.net/events/details/60-s-70-s-80-s-dance-party-7102
END:VEVENT

END:VCALENDAR
