BEGIN:VCALENDAR
VERSION:2.0
PRODID:-//ChamberMaster//Event Calendar 2.0//EN
METHOD:PUBLISH
X-PUBLISHED-TTL:P3D
REFRESH-INTERVAL:P3D
CALSCALE:GREGORIAN
BEGIN:VEVENT
DTSTART:20180315T213000Z
DTEND:20180316T010000Z
X-MICROSOFT-CDO-ALLDAYEVENT:FALSE
SUMMARY:63rd Annual Meeting and Awards Celebration
DESCRIPTION:The Halifax County Chamber of Commerce Board of Directors cordially invites you to join us for the 63rd Annual Meeting and Awards Celebration.\n\n\n\nSocial and Hors d'oeuvres beginning at 5:30 p.m.\n\nCall to Order: 6:30 p.m.\n\nIntroduction of Incoming Chair\n\nInstallation of Incoming Board of Directors\n\nBusiness of the Year Award and Business Person of the Year Award\n\n\n\nSemi-Formal Attire
X-ALT-DESC;FMTTYPE=text/html:<p>The Halifax County Chamber of Commerce Board of Directors cordially invites you to join us for the 63rd&nbsp\;Annual Meeting and Awards Celebration.<br />\n<br />\nSocial and Hors d&#39\;oeuvres beginning at 5:30 p.m.<br />\nCall to Order: 6:30 p.m.<br />\nIntroduction of Incoming Chair<br />\nInstallation of Incoming Board of Directors<br />\nBusiness of the Year Award and Business Person of the Year Award<br />\n<br />\nSemi-Formal Attire</p>\n
LOCATION:The Prizery 700 Bruce Street South Boston\, VA 24592
UID:e.845.7190
SEQUENCE:3
DTSTAMP:20260422T052245Z
URL:https://business.halifaxchamber.net/events/details/63rd-annual-meeting-and-awards-celebration-7190
END:VEVENT

END:VCALENDAR
