BEGIN:VCALENDAR
VERSION:2.0
PRODID:-//ChamberMaster//Event Calendar 2.0//EN
METHOD:PUBLISH
X-PUBLISHED-TTL:P3D
REFRESH-INTERVAL:P3D
CALSCALE:GREGORIAN
BEGIN:VEVENT
DTSTART:20200521T220000Z
DTEND:20200521T233000Z
X-MICROSOFT-CDO-ALLDAYEVENT:FALSE
SUMMARY:65th Virtual Annual Meeting and Awards Celebration
DESCRIPTION:The Halifax County Chamber of Commerce Board of Directors cordially invites you to join us for the 65th Virtual Annual Meeting and Awards Celebration.\n\n\n\nJoin us on Zoom to celebrate this year's accomplishments and volunteers. Business of the Year\, Business Person of the Year\, and Young Professional of the Year will be awarded. A virtual wine pull will conclude the event.
X-ALT-DESC;FMTTYPE=text/html:<span style="font-family:arial\;"><span style="font-size:14px\;"><span style="letter-spacing: 0.5px\;">The Halifax County Chamber of Commerce Board of Directors cordially invites you to join us for the 65th Virtual Annual Meeting and Awards Celebration.</span><br style="box-sizing: border-box\; font-family: Oxygen\, sans-serif\; font-size: 16px\; letter-spacing: 0.5px\;" />\n<br style="box-sizing: border-box\; font-family: Oxygen\, sans-serif\; font-size: 16px\; letter-spacing: 0.5px\;" />\n<span style="letter-spacing: 0.5px\;">Join us on Zoom to celebrate this year&#39\;s accomplishments and volunteers. Business of the Year\, Business Person of the Year\, and Young Professional of the Year will be awarded. A virtual wine pull will conclude the event.</span></span></span>
LOCATION:Zoom A zoom link will be emailed to all attendees.
UID:e.845.15510
SEQUENCE:3
DTSTAMP:20260420T114446Z
URL:https://business.halifaxchamber.net/events/details/65th-virtual-annual-meeting-and-awards-celebration-15510
END:VEVENT

END:VCALENDAR
