BEGIN:VCALENDAR
VERSION:2.0
PRODID:-//ChamberMaster//Event Calendar 2.0//EN
METHOD:PUBLISH
X-PUBLISHED-TTL:P3D
REFRESH-INTERVAL:P3D
CALSCALE:GREGORIAN
BEGIN:VEVENT
DTSTART:20190927T120000Z
DTEND:20190927T210000Z
X-MICROSOFT-CDO-ALLDAYEVENT:FALSE
SUMMARY:6th Annual Chamber Fall Classic Golf Tournament
DESCRIPTION:Enjoy a great day on the greens! Join us for the 6th Annual Chamber Fall Classic Golf Tournament. Slots are open to members and players from across the region\, and we encourage you to sign up for exciting and friendly foursome play.
X-ALT-DESC;FMTTYPE=text/html:Enjoy a great day on the greens! Join us for the 6th Annual Chamber Fall Classic Golf Tournament. Slots are open to members and players from across the region\, and we encourage you to sign up for exciting and friendly foursome play.
LOCATION:Halifax County Country Club
UID:e.845.12050
SEQUENCE:3
DTSTAMP:20260421T012243Z
URL:https://business.halifaxchamber.net/events/details/6th-annual-chamber-fall-classic-golf-tournament-12050
END:VEVENT

END:VCALENDAR
