BEGIN:VCALENDAR
VERSION:2.0
PRODID:-//ChamberMaster//Event Calendar 2.0//EN
METHOD:PUBLISH
X-PUBLISHED-TTL:P3D
REFRESH-INTERVAL:P3D
CALSCALE:GREGORIAN
BEGIN:VEVENT
DTSTART:20190418T210000Z
DTEND:20190418T230000Z
X-MICROSOFT-CDO-ALLDAYEVENT:FALSE
SUMMARY:6th Annual Law Enforcement/Community Easter Egg Hunt
DESCRIPTION:Please come out and enjoy the 6th annual Law Enforcement/Community Easter Egg Hunt to be held Thursday April 18th at the Halifax County Fair Grounds from 5:00   7:00 P. M. Free hot dogs\, chips\, lemonade\, water and snow cones will be provided while supplies last. There will be 3 Easter Egg Hunts. The first hunt starts at 5:30 for ages 2   4 followed by ages 5   7 and then ages 8   10. The Easter Bunny says he will be on site with prizes galore!
X-ALT-DESC;FMTTYPE=text/html:<span style="color: rgb(29\, 33\, 41)\; font-family: system-ui\, -apple-system\, system-ui\, &quot\;.SFNSText-Regular&quot\;\, sans-serif\; font-size: 14px\;">Please come out and enjoy the 6th annual Law Enforcement/Community Easter Egg Hunt to be held Thursday April 18th at the Halifax County Fair Grounds from 5:00 &ndash\; 7:00 P. M. Free hot dogs\, chips\, lemonade\, water and snow cones will be provided while supplies last. There will be 3 Easter Egg Hunts. The first hunt starts at 5:30 for ages 2 &ndash\; 4 followed by ages 5 &ndash\; 7 and then ages 8 &ndash\; 10. The Easter Bunny says he will be on site with prizes galore!</span>
LOCATION:Halifax County Fairgrounds
UID:e.845.12433
SEQUENCE:3
DTSTAMP:20260421T075751Z
URL:https://business.halifaxchamber.net/events/details/6th-annual-law-enforcement-community-easter-egg-hunt-12433
END:VEVENT

END:VCALENDAR
