BEGIN:VCALENDAR
VERSION:2.0
PRODID:-//ChamberMaster//Event Calendar 2.0//EN
METHOD:PUBLISH
X-PUBLISHED-TTL:P3D
REFRESH-INTERVAL:P3D
CALSCALE:GREGORIAN
BEGIN:VEVENT
DTSTART:20190915T000000Z
DTEND:20190915T035500Z
X-MICROSOFT-CDO-ALLDAYEVENT:FALSE
SUMMARY:70's Super Moonlight Bowling Bash
DESCRIPTION:We are turning the lights down\, music up and doubling the prize fund from the Dude Upstairs Saturday\, September 14th for the 70's Super Moonlight Bowling Bash featuring DJ B-Ham.\n\n\n\nDress us in your favorite bell bottoms\, vintage tops\, and headbands\, come bowling with your friends and family and win prizes! See if you can be the one to win the $1000!\n\n\n\nThe fun starts at 8:00.
X-ALT-DESC;FMTTYPE=text/html:<font color="#1c1e21"><span style="font-size:14px">We are turning the lights down\, music up and doubling the prize fund from the Dude Upstairs&nbsp\;</span><span style="caret-color:rgb(28\, 30\, 33)\; font-size:14px">Saturday\, September 14th</span><span style="font-size:14px">&nbsp\;for the 70&#39\;s Super Moonlight Bowling Bash featuring DJ B-Ham.</span></font><br />\n<br />\n<span style="color:rgb(28\, 30\, 33)\; font-family:system-ui\,-apple-system\,blinkmacsystemfont\,.sfnstext-regular\,sans-serif\; font-size:14px">Dress us in your favorite bell bottoms\, vintage tops\, and headbands\, come bowling with your friends and family and win prizes! See if you can be the one to win the $1000!<br />\n<br />\nThe fun starts at 8:00.</span>
LOCATION:World of Sports 2030 Bill Tuck Highway South Boston\, VA 24592
UID:e.845.13282
SEQUENCE:3
DTSTAMP:20260420T233650Z
URL:https://business.halifaxchamber.net/events/details/70-s-super-moonlight-bowling-bash-13282
END:VEVENT

END:VCALENDAR
