BEGIN:VCALENDAR
VERSION:2.0
PRODID:-//ChamberMaster//Event Calendar 2.0//EN
METHOD:PUBLISH
X-PUBLISHED-TTL:P3D
REFRESH-INTERVAL:P3D
CALSCALE:GREGORIAN
BEGIN:VEVENT
DTSTART:20200925T120000Z
DTEND:20200925T210000Z
X-MICROSOFT-CDO-ALLDAYEVENT:FALSE
SUMMARY:7th Annual Chamber Fall Classic Golf Tournament
DESCRIPTION:Enjoy a great day on the greens! Join us for the 7th Annual Chamber Fall Classic Golf Tournament. Slots are open to members and players from across the region\, and we encourage you to sign up for exciting and friendly foursome play.
X-ALT-DESC;FMTTYPE=text/html:Enjoy a great day on the greens! Join us for the 7th Annual Chamber Fall Classic Golf Tournament. Slots are open to members and players from across the region\, and we encourage you to sign up for exciting and friendly foursome play.
LOCATION:Halifax County Country Club
UID:e.845.15631
SEQUENCE:3
DTSTAMP:20260420T045747Z
URL:https://business.halifaxchamber.net/events/details/7th-annual-chamber-fall-classic-golf-tournament-15631
END:VEVENT

END:VCALENDAR
