BEGIN:VCALENDAR
VERSION:2.0
PRODID:-//ChamberMaster//Event Calendar 2.0//EN
METHOD:PUBLISH
X-PUBLISHED-TTL:P3D
REFRESH-INTERVAL:P3D
CALSCALE:GREGORIAN
BEGIN:VEVENT
DTSTART:20190622T160000Z
DTEND:20190622T220000Z
X-MICROSOFT-CDO-ALLDAYEVENT:FALSE
SUMMARY:7th Annual Wine & Flowers
DESCRIPTION:Spend an afternoon on the farm in beautiful Southside Virginia. Hunting Creek Vineyards will be on site with wine tasting and sangria\, food available for purchase\, music at The Stable and thousands of daylilies in full bloom! Free event!
X-ALT-DESC;FMTTYPE=text/html:<span style="caret-color: rgb(29\, 33\, 41)\; color: rgb(29\, 33\, 41)\; font-family: system-ui\, -apple-system\, BlinkMacSystemFont\, &quot\;.SFNSText-Regular&quot\;\, sans-serif\; font-size: 14px\; white-space: pre-wrap\; background-color: rgb(255\, 255\, 255)\;">Spend an afternoon on the farm in beautiful Southside Virginia. Hunting Creek Vineyards will be on site with wine tasting and sangria\, food available for purchase\, music at The Stable and thousands of daylilies in full bloom! Free event!</span>
LOCATION:Deb's Daylilies & More 636 Adams Rd. Randolph\, VA 23923
UID:e.845.12385
SEQUENCE:3
DTSTAMP:20260421T044103Z
URL:https://business.halifaxchamber.net/events/details/7th-annual-wine-flowers-12385
END:VEVENT

END:VCALENDAR
