BEGIN:VCALENDAR
VERSION:2.0
PRODID:-//ChamberMaster//Event Calendar 2.0//EN
METHOD:PUBLISH
X-PUBLISHED-TTL:P3D
REFRESH-INTERVAL:P3D
CALSCALE:GREGORIAN
BEGIN:VEVENT
DTSTART:20170415T010000Z
DTEND:20170415T050000Z
X-MICROSOFT-CDO-ALLDAYEVENT:FALSE
SUMMARY:80 Proof Live at JB's
DESCRIPTION:Live Entertainment by 80 Proof at JB's Burgers\, Apps and Taps\n\n\n\nAll proceeds to benefit Ramona Keaton-Lyon.
X-ALT-DESC;FMTTYPE=text/html:Live Entertainment&nbsp\;by 80 Proof at JB&#39\;s Burgers\, Apps and Taps<br />\n<br />\nAll proceeds to benefit&nbsp\;Ramona Keaton-Lyon.
LOCATION:Located in the World of Sports 2030 Bill Tuck Highway South Boston\, VA 24592
UID:e.845.5872
SEQUENCE:3
DTSTAMP:20260424T113808Z
URL:https://business.halifaxchamber.net/events/details/80-proof-live-at-jb-s-5872
END:VEVENT

END:VCALENDAR
