BEGIN:VCALENDAR
VERSION:2.0
PRODID:-//ChamberMaster//Event Calendar 2.0//EN
METHOD:PUBLISH
X-PUBLISHED-TTL:P3D
REFRESH-INTERVAL:P3D
CALSCALE:GREGORIAN
BEGIN:VEVENT
DTSTART:20200202T013000Z
DTEND:20200202T050000Z
X-MICROSOFT-CDO-ALLDAYEVENT:FALSE
SUMMARY:80 Proof Rocks Badeaux
DESCRIPTION:80 PROOF is bringing 100%\, 80's hair metal\, to Badeaux's. THE 80's Show\, you do not want to miss!! Gonna be a GOOD TIME!!
X-ALT-DESC;FMTTYPE=text/html:<span style="color:rgb(29\, 33\, 41)\; font-family:system-ui\,-apple-system\,system-ui\,.sfnstext-regular\,sans-serif\; font-size:14px">80 PROOF is bringing 100%\, 80&#39\;s hair metal\, to Badeaux&#39\;s. THE 80&#39\;s Show\, you do not want to miss!! Gonna be a GOOD TIME!!</span>
LOCATION:Badeaux Seafood and Grill 2001 Seymour Drive South Boston\, VA 24592
UID:e.845.17453
SEQUENCE:3
DTSTAMP:20260420T151426Z
URL:https://business.halifaxchamber.net/events/details/80-proof-rocks-badeaux-17453
END:VEVENT

END:VCALENDAR
