BEGIN:VCALENDAR
VERSION:2.0
PRODID:-//ChamberMaster//Event Calendar 2.0//EN
METHOD:PUBLISH
X-PUBLISHED-TTL:P3D
REFRESH-INTERVAL:P3D
CALSCALE:GREGORIAN
BEGIN:VEVENT
DTSTART:20191110T010000Z
DTEND:20191110T045500Z
X-MICROSOFT-CDO-ALLDAYEVENT:FALSE
SUMMARY:80's Glow Bowling Bash
DESCRIPTION:Join World of Sports for the 80's Glow Bowling Bash featuring DJ B-Ham.\n\nDress up in your favorite 80's gear and go bowling with you friends and family to win prizes. You may be the one to win $500. Costume contest at 10 PM.\n\nCall 434.572.2695
X-ALT-DESC;FMTTYPE=text/html:Join World of Sports for the 80&#39\;s Glow Bowling Bash featuring DJ B-Ham.<br />\nDress up in your favorite 80&#39\;s gear and go bowling with you friends and family to win prizes. You may be the one to win $500. Costume contest at 10 PM.<br />\nCall 434.572.2695
LOCATION:World of Sports 2030 Bill Tuck Highway South Boston\, VA 24592
UID:e.845.15497
SEQUENCE:3
DTSTAMP:20260420T195631Z
URL:https://business.halifaxchamber.net/events/details/80-s-glow-bowling-bash-15497
END:VEVENT

END:VCALENDAR
