BEGIN:VCALENDAR
VERSION:2.0
PRODID:-//ChamberMaster//Event Calendar 2.0//EN
METHOD:PUBLISH
X-PUBLISHED-TTL:P3D
REFRESH-INTERVAL:P3D
CALSCALE:GREGORIAN
BEGIN:VEVENT
DTSTART:20170709T000000Z
DTEND:20170709T030000Z
X-MICROSOFT-CDO-ALLDAYEVENT:FALSE
SUMMARY:90's Dance Party at Staunton River Brewing Co.
DESCRIPTION:It's a night of musical teen spirit for the 80's and 90's kids!\n\nFrom Criss Cross to Tone Loc to Warrant\, Chris Fisher will be deejaying AND performing some of the greatest hits of our teen years!\n\n$5 cover unless you've got the Hammer pants or the snap bracelets to get you whisked past the red carpet...That's right- come in appropriate period attire and pay no cover. \n\nCraft beer\, wine\, sangria\, Cheerwine\, and iced tea- something for everyone! Food truck open all night!\n\nContests for most authentic 90's attire\, Best Band Groupie shirt\, and best 90's dance moves to a Jock Jams remix.\n\nIt'll be a night to remember! Come join us for a 90s flashback on the dancefloor at the Staunton River Brewing pavilion!
X-ALT-DESC;FMTTYPE=text/html:<span style="color: rgb(75\, 79\, 86)\; font-family: 'San Francisco'\, -apple-system\, system-ui\, '.SFNSText-Regular'\, sans-serif\; font-size: 14px\; font-variant-ligatures: normal\; letter-spacing: -0.24px\; orphans: 2\; widows: 2\;">It&#39\;s a night of musical teen spirit for the 80&#39\;s and 90&#39\;s kids!</span><br style="color: rgb(75\, 79\, 86)\; font-family: 'San Francisco'\, -apple-system\, system-ui\, '.SFNSText-Regular'\, sans-serif\; font-size: 14px\; font-variant-ligatures: normal\; letter-spacing: -0.24px\; orphans: 2\; widows: 2\;" />\n<span style="color: rgb(75\, 79\, 86)\; font-family: 'San Francisco'\, -apple-system\, system-ui\, '.SFNSText-Regular'\, sans-serif\; font-size: 14px\; font-variant-ligatures: normal\; letter-spacing: -0.24px\; orphans: 2\; widows: 2\;">From Criss Cross to Tone Loc to Warrant\, Chris Fisher will be deejaying AND performing some of the greatest hits of our teen years!</span><br style="color: rgb(75\, 79\, 86)\; font-family: 'San Francisco'\, -apple-system\, system-ui\, '.SFNSText-Regular'\, sans-serif\; font-size: 14px\; font-variant-ligatures: normal\; letter-spacing: -0.24px\; orphans: 2\; widows: 2\;" />\n<span style="color: rgb(75\, 79\, 86)\; font-family: 'San Francisco'\, -apple-system\, system-ui\, '.SFNSText-Regular'\, sans-serif\; font-size: 14px\; font-variant-ligatures: normal\; letter-spacing: -0.24px\; orphans: 2\; widows: 2\;">$5 cover unless you&#39\;ve got the Hammer pants or the snap bracelets to get you whisked past the red carpet...That&#39\;s right- come in appropriate period attire and pay no cover.&nbsp\;</span><br style="color: rgb(75\, 79\, 86)\; font-family: 'San Francisco'\, -apple-system\, system-ui\, '.SFNSText-Regular'\, sans-serif\; font-size: 14px\; font-variant-ligatures: normal\; letter-spacing: -0.24px\; orphans: 2\; widows: 2\;" />\n<span style="color: rgb(75\, 79\, 86)\; font-family: 'San Francisco'\, -apple-system\, system-ui\, '.SFNSText-Regular'\, sans-serif\; font-size: 14px\; font-variant-ligatures: normal\; letter-spacing: -0.24px\; orphans: 2\; widows: 2\;">Craft beer\, wine\, sangria\, Cheerwine\, and iced tea- something for everyone! Food truck open all night!</span><br style="color: rgb(75\, 79\, 86)\; font-family: 'San Francisco'\, -apple-system\, system-ui\, '.SFNSText-Regular'\, sans-serif\; font-size: 14px\; font-variant-ligatures: normal\; letter-spacing: -0.24px\; orphans: 2\; widows: 2\;" />\n<span style="color: rgb(75\, 79\, 86)\; font-family: 'San Francisco'\, -apple-system\, system-ui\, '.SFNSText-Regular'\, sans-serif\; font-size: 14px\; font-variant-ligatures: normal\; letter-spacing: -0.24px\; orphans: 2\; widows: 2\;">Contests for most authentic 90&#39\;s attire\, Best Band Groupie shirt\, and best 90&#39\;s dance moves to a Jock Jams remix.</span><br style="color: rgb(75\, 79\, 86)\; font-family: 'San Francisco'\, -apple-system\, system-ui\, '.SFNSText-Regular'\, sans-serif\; font-size: 14px\; font-variant-ligatures: normal\; letter-spacing: -0.24px\; orphans: 2\; widows: 2\;" />\n<span style="color: rgb(75\, 79\, 86)\; font-family: 'San Francisco'\, -apple-system\, system-ui\, '.SFNSText-Regular'\, sans-serif\; font-size: 14px\; font-variant-ligatures: normal\; letter-spacing: -0.24px\; orphans: 2\; widows: 2\;">It&#39\;ll be a night to remember! Come join us for a 90s flashback on the dancefloor at the Staunton River Brewing pavilion!</span>
LOCATION:Staunton River Brewing Co. 1571 Mount Calvary Road Brookneal\, VA
UID:e.845.5994
SEQUENCE:3
DTSTAMP:20260422T212350Z
URL:https://business.halifaxchamber.net/events/details/90-s-dance-party-at-staunton-river-brewing-co-5994
END:VEVENT

END:VCALENDAR
