BEGIN:VCALENDAR
VERSION:2.0
PRODID:-//ChamberMaster//Event Calendar 2.0//EN
METHOD:PUBLISH
X-PUBLISHED-TTL:P3D
REFRESH-INTERVAL:P3D
CALSCALE:GREGORIAN
BEGIN:VEVENT
DTSTART:20191005T010000Z
DTEND:20191005T035500Z
X-MICROSOFT-CDO-ALLDAYEVENT:FALSE
SUMMARY:90's vs 00's Party
DESCRIPTION:Join us for the 90's vs 00's party with DJ M-Mage.  9:00-Midnight on Friday\, October 4th
X-ALT-DESC;FMTTYPE=text/html:Join us for the 90&#39\;s vs 00&#39\;s party with DJ M-Mage. &nbsp\;9:00-Midnight on Friday\, October 4th
LOCATION:World of Sports 2030 Bill Tuck Highway South Boston\, VA 24592
UID:e.845.13444
SEQUENCE:3
DTSTAMP:20260420T233312Z
URL:https://business.halifaxchamber.net/events/details/90-s-vs-00-s-party-13444
END:VEVENT

END:VCALENDAR
