BEGIN:VCALENDAR
VERSION:2.0
PRODID:-//ChamberMaster//Event Calendar 2.0//EN
METHOD:PUBLISH
X-PUBLISHED-TTL:P3D
REFRESH-INTERVAL:P3D
CALSCALE:GREGORIAN
BEGIN:VEVENT
DTSTART:20171109T000000Z
DTEND:20171109T020000Z
X-MICROSOFT-CDO-ALLDAYEVENT:FALSE
SUMMARY:A Celtic Concert
DESCRIPTION:"Music at Saint John's" new concert series will present the third concert of the 2017-2018 season: "A Celtic Concert on Wednesday November 8th. A Celtic Concert will feature Regina Christianson and Stephen Whiteley\, on harp\, 12-string guitar and mandolin.\n\n\n\nCall (434) 476-6696 to reserve your tickets or they are also available at the door. \n\nThe evening includes a free reception on-the-lawn during intermission.
X-ALT-DESC;FMTTYPE=text/html:&quot\;Music at Saint John&#39\;s&quot\; new concert series will present the third concert of the 2017-2018 season: &quot\;A Celtic Concert on Wednesday&nbsp\;November 8th. A Celtic Concert will feature Regina Christianson and Stephen Whiteley\, on harp\, 12-string guitar and mandolin.<br />\n<br />\nCall (434) 476-6696 to reserve&nbsp\;your tickets or they are also available&nbsp\;at the door.&nbsp\;<br />\nThe evening includes a free reception on-the-lawn during intermission.&nbsp\;
LOCATION:St. John's Episcopal Church 197 Mountain Road\, Halifax
UID:e.845.7132
SEQUENCE:3
DTSTAMP:20260422T120716Z
URL:https://business.halifaxchamber.net/events/details/a-celtic-concert-7132
END:VEVENT

END:VCALENDAR
