BEGIN:VCALENDAR
VERSION:2.0
PRODID:-//ChamberMaster//Event Calendar 2.0//EN
METHOD:PUBLISH
X-PUBLISHED-TTL:P3D
REFRESH-INTERVAL:P3D
CALSCALE:GREGORIAN
BEGIN:VEVENT
DTSTART:20161028T220000Z
DTEND:20161029T010000Z
X-MICROSOFT-CDO-ALLDAYEVENT:FALSE
SUMMARY:A Haunting Night At The Museum
DESCRIPTION:Join us for A Haunting Night At The Museum. Food and Beverages are included ! Wine available for purchase from local vineyards. Costume Contest Walk at 8 P.M. Prizes for scariest & most creative.
X-ALT-DESC;FMTTYPE=text/html:Join us for A Haunting Night At The Museum. Food and Beverages are included ! Wine available for purchase from local vineyards. Costume Contest Walk at&nbsp\;8 P.M. Prizes for scariest &amp\; most creative.&nbsp\;
LOCATION:South Boston Halifax County Museum Of Fine Arts & History 1540 Wilborn Avenue South Boston\, VA
UID:e.845.5722
SEQUENCE:3
DTSTAMP:20260424T211329Z
URL:https://business.halifaxchamber.net/events/details/a-haunting-night-at-the-museum-5722
END:VEVENT

END:VCALENDAR
