BEGIN:VCALENDAR
VERSION:2.0
PRODID:-//ChamberMaster//Event Calendar 2.0//EN
METHOD:PUBLISH
X-PUBLISHED-TTL:P3D
REFRESH-INTERVAL:P3D
CALSCALE:GREGORIAN
BEGIN:VEVENT
DTSTART:20170205T003000Z
DTEND:20170204T050000Z
X-MICROSOFT-CDO-ALLDAYEVENT:FALSE
SUMMARY:A Night At The Speakeasy
DESCRIPTION:Join us for a fun night of dinner\, music\, dancing\, signature cocktails and a live auction. The event is being co-hosted by the South Boston Lions Club and the South Boston-Halifax Junior Woman's Club to celebrate the South Boston Lions Club's 90th anniversary as well as raise money for two very worthy causes. Proceeds will be split evenly to fund eyeglasses for local individuals in need and a scholarship for a local high school senior.
X-ALT-DESC;FMTTYPE=text/html:<span style="color: rgb(75\, 79\, 86)\; font-family: 'San Francisco'\, -apple-system\, BlinkMacSystemFont\, '.SFNSText-Regular'\, sans-serif\; font-size: 14px\; letter-spacing: -0.23999999463558197px\;">Join us for a fun night of dinner\, music\, dancing\, signature cocktails and a live auction. The event is being co-hosted by the South Boston Lions Club and the South Boston-Halifax Junior Woman&#39\;s Club to celebrate the South Boston Lions Club&#39\;s 90th anniversary as well as raise money for two very worthy causes. Proceeds will be split evenly to fund eyeglasses for local individuals in need and a scholarship for a local high school senior.</span>
LOCATION:The Prizery 700 Bruce Street South Boston\, VA
UID:e.845.5781
SEQUENCE:3
DTSTAMP:20260424T145314Z
URL:https://business.halifaxchamber.net/events/details/a-night-at-the-speakeasy-5781
END:VEVENT

END:VCALENDAR
