BEGIN:VCALENDAR
VERSION:2.0
PRODID:-//ChamberMaster//Event Calendar 2.0//EN
METHOD:PUBLISH
X-PUBLISHED-TTL:P3D
REFRESH-INTERVAL:P3D
CALSCALE:GREGORIAN
BEGIN:VEVENT
DTSTART:20190203T013000Z
DTEND:20190203T030000Z
X-MICROSOFT-CDO-ALLDAYEVENT:FALSE
SUMMARY:A Night with Frank at The Prizery
DESCRIPTION:Frank Fincher is known far and wide as a funny dude! Join us for a night of laughs and libation in The Prizery banquet hall. A totally adult standup comedy experience.
X-ALT-DESC;FMTTYPE=text/html:<span style="caret-color: rgb(51\, 51\, 51)\; color: rgb(51\, 51\, 51)\; font-family: Helvetica\, Arial\, sans-serif\; font-size: 15px\; background-color: rgba(245\, 240\, 236\, 0.498039)\;">Frank Fincher is known far and wide as a funny dude! Join us for a night of laughs and libation in The Prizery banquet hall. A totally adult standup comedy experience.</span>
LOCATION:The Prizery 820 Bruce Street South Boston\, VA 24592
UID:e.845.11708
SEQUENCE:3
DTSTAMP:20260421T110114Z
URL:https://business.halifaxchamber.net/events/details/a-night-with-frank-at-the-prizery-11708
END:VEVENT

END:VCALENDAR
