BEGIN:VCALENDAR
VERSION:2.0
PRODID:-//ChamberMaster//Event Calendar 2.0//EN
METHOD:PUBLISH
X-PUBLISHED-TTL:P3D
REFRESH-INTERVAL:P3D
CALSCALE:GREGORIAN
BEGIN:VEVENT
DTSTART:20171210T190000Z
DTEND:20171210T210000Z
X-MICROSOFT-CDO-ALLDAYEVENT:FALSE
SUMMARY:A Williamsburg Christmas
DESCRIPTION:Experience the sights\, sounds\, and taste of a Williamsburg Christmas right in South Boston! Enjoy Colonial decorations \, period music\, and delicious fare to begin your holiday season. The Holiday Open House is a free event\, open to the public. For more information \, contact the museum at 434-572-9200 during our regular business hours\, Wednesday-Saturday from 10 a.m. - 4 p.m.\, or send us an email at info@sbhcmuseum.org
X-ALT-DESC;FMTTYPE=text/html:Experience the sights\, sounds\, and taste of a Williamsburg Christmas right in South Boston! Enjoy Colonial decorations \, period music\, and delicious fare to begin your holiday season. The Holiday Open House is a free event\, open to the public. For more information \, contact the museum at 434-572-9200 during our regular business hours\, Wednesday-Saturday from 10 a.m. - 4 p.m.\, or send us an email at info@sbhcmuseum.org
LOCATION:South Boston Halifax County Museum of Fine Arts and History 1540 Wilborn Ave South Boston VA 24592
UID:e.845.7174
SEQUENCE:3
DTSTAMP:20260422T104415Z
URL:https://business.halifaxchamber.net/events/details/a-williamsburg-christmas-7174
END:VEVENT

END:VCALENDAR
