BEGIN:VCALENDAR
VERSION:2.0
PRODID:-//ChamberMaster//Event Calendar 2.0//EN
METHOD:PUBLISH
X-PUBLISHED-TTL:P3D
REFRESH-INTERVAL:P3D
CALSCALE:GREGORIAN
BEGIN:VEVENT
DTSTART:20180106T140000Z
DTEND:20180106T170000Z
X-MICROSOFT-CDO-ALLDAYEVENT:FALSE
SUMMARY:ABB Job Fair
DESCRIPTION:ABB JOB FAIR\n\nSaturday\, January 6\, 2018\n\n9:00 am - 12:00 noon\n\n2135 Philpott Ave.\n\nSouth Boston\, VA\n\n\n\nAre you ready to work with a purpose? Join a growing business focused on safety\, quality and customer satisfaction. ABB is seeking Manufacturing Team Associates in Assembly\, Winding and Support areas to manufacture world-class distribution and power transformers. Grow your career with ABB! \n\n\n\nCandidates must pre-register at the South Boston Workforce Center and complete an application. Dates to pre-register are December 27\, 28 & 29\; and January 3\, 4 & 5.\n\n\n\nRegister at: \n\nSouth Boston Workforce Center \n\n2506 Houghton Ave.\n\n(434) 572-8064
X-ALT-DESC;FMTTYPE=text/html:ABB JOB FAIR<br />\nSaturday\, January 6\, 2018<br />\n9:00 am - 12:00 noon<br />\n2135 Philpott&nbsp\;Ave.<br />\nSouth Boston\, VA<br />\n<br />\nAre you ready to work with a purpose? Join a growing business focused on safety\, quality and customer satisfaction. ABB is seeking Manufacturing Team Associates in Assembly\, Winding and Support areas to manufacture world-class distribution and power transformers. Grow your career with ABB!&nbsp\;<br />\n<br />\nCandidates must pre-register at the South Boston Workforce Center and complete an application. Dates to pre-register are December 27\, 28 &amp\; 29\; and January 3\, 4 &amp\; 5.<br />\n<br />\nRegister at:&nbsp\;<br />\nSouth Boston Workforce Center&nbsp\;<br />\n2506 Houghton Ave.<br />\n(434) 572-8064
LOCATION:ABB 2135 Philpott Ave South Boston\, VA
UID:e.845.7187
SEQUENCE:3
DTSTAMP:20260422T090430Z
URL:https://business.halifaxchamber.net/events/details/abb-job-fair-7187
END:VEVENT

END:VCALENDAR
