BEGIN:VCALENDAR
VERSION:2.0
PRODID:-//ChamberMaster//Event Calendar 2.0//EN
METHOD:PUBLISH
X-PUBLISHED-TTL:P3D
REFRESH-INTERVAL:P3D
CALSCALE:GREGORIAN
BEGIN:VEVENT
DTSTART;VALUE=DATE:20180525
DTEND;VALUE=DATE:20180526
TRANSP:TRANSPARENT
X-MICROSOFT-CDO-ALLDAYEVENT:TRUE
SUMMARY:ABB Job Fair
DESCRIPTION:ABB JOB FAIR\n\nSouth Boston Workforce Center 2506 Houghton Ave.\, South Boston\, VA 434-572-8064\n\nMay 21 - May 30\, 2018\n\nAre you ready to work with a purpose? Join a growing business focused on safety\, quality and customer satisfaction. ABB is seeking Manufacturing Team Associates in Assembly\, Winding and Support and Test Technicians for our world-class distribution and power transformer business. Grow your career with ABB!\n\nCandidates must pre-register at the South Boston Workforce Center and complete an application by May 30.\n\nCall the center for hours and details. Special extended hours on May 30 from 8:30 am to 7:00 pm.
X-ALT-DESC;FMTTYPE=text/html:<div class="page" title="Page 1">\n<div class="layoutArea">\n<div class="column">\n<p><br />\n<strong><span style="font-size:26px\;">ABB JOB FAIR</span></strong></p>\n\n<p><span style="font-size: 17pt\; font-family: Arial\; font-weight: 700\;">South Boston Workforce </span><span style="font-size: 17pt\; font-family: Arial\; font-weight: 700\;">Center&nbsp\;</span><span style="font-size: 15pt\; font-family: Arial\; font-weight: 700\;">2506</span><span style="font-size: 15pt\; font-family: Arial\; font-weight: 700\;"> Houghton Ave.\, South Boston\, VA 434-572-8064</span></p>\n\n<p><span style="font-size: 24pt\; font-family: Arial\; font-weight: 700\;">May 21 - May 30\, 2018</span></p>\n\n<p><span style="font-size: 14pt\; font-family: ArialNarrow\;">Are you ready to work with a purpose? Join a growing business focused on safety\, quality and customer satisfaction. ABB is seeking Manufacturing Team Associates in Assembly\, Winding and Support and Test Technicians for our world-class distribution and power transformer business. Grow your career with ABB!</span></p>\n\n<p><span style="font-size: 13pt\; font-family: Arial\; font-weight: 700\;">Candidates must pre-register at the South Boston Workforce Center and complete an application by May 30.</span></p>\n\n<p><span style="font-size: 13pt\; font-family: ArialMT\;">Call the center for hours and details. Special extended hours on May 30 from 8:30 am to 7:00 pm.</span></p>\n</div>\n</div>\n</div>\n
LOCATION:South Boston Workforce Center 2506 Houghton Ave. South Boston \, VA 24592
UID:e.845.8454
SEQUENCE:3
DTSTAMP:20260422T015859Z
URL:https://business.halifaxchamber.net/events/details/abb-job-fair-8454
END:VEVENT

END:VCALENDAR
