BEGIN:VCALENDAR
VERSION:2.0
PRODID:-//ChamberMaster//Event Calendar 2.0//EN
METHOD:PUBLISH
X-PUBLISHED-TTL:P3D
REFRESH-INTERVAL:P3D
CALSCALE:GREGORIAN
BEGIN:VEVENT
DTSTART;VALUE=DATE:20181009
DTEND;VALUE=DATE:20181020
TRANSP:TRANSPARENT
X-MICROSOFT-CDO-ALLDAYEVENT:TRUE
SUMMARY:ABB Job Fair
DESCRIPTION:Are you ready to work with a purpose? Join a growing business focused on safety\, quality and customer satisfaction. ABB is seeking Manufacturing Team Associates in Assembly\, Winding and Support and Test Techniciansfor our world-class distribution and power transformer business . Grow your career with ABB!\n\nCandidates must pre-register at the South Boston Center and complete an appliction by October 19.\n\nCall the center for hours and details. Special extended hours for October 17 from 9:30 AM to 7:00 PM.
X-ALT-DESC;FMTTYPE=text/html:Are you ready to work with a purpose? Join a growing business focused on safety\, quality and customer satisfaction. ABB is seeking Manufacturing Team Associates in Assembly\, Winding and Support and Test Techniciansfor our world-class distribution and power transformer business . Grow your career with ABB!<br />\nCandidates must pre-register at the South Boston Center and complete an appliction by October 19.<br />\nCall the center for hours and details. Special extended hours for October 17 from 9:30 AM to 7:00 PM.
LOCATION:The Virginia Career Works - South Boston Center 2506 Houghton Ave. South Boston\, VA 24592
UID:e.845.8527
SEQUENCE:3
DTSTAMP:20260421T171145Z
URL:https://business.halifaxchamber.net/events/details/abb-job-fair-8527
END:VEVENT

END:VCALENDAR
