BEGIN:VCALENDAR
VERSION:2.0
PRODID:-//ChamberMaster//Event Calendar 2.0//EN
METHOD:PUBLISH
X-PUBLISHED-TTL:P3D
REFRESH-INTERVAL:P3D
CALSCALE:GREGORIAN
BEGIN:VEVENT
DTSTART;VALUE=DATE:20190413
DTEND;VALUE=DATE:20190414
TRANSP:TRANSPARENT
X-MICROSOFT-CDO-ALLDAYEVENT:TRUE
SUMMARY:ACT Testing for 11th and 12th Graders
DESCRIPTION:11th and 12th Graders  loking for free money for college are encouraged to take the ACT. Those who score extremely well may have an oppurtunity to receive a scholarship. The test date is Saturday\, April 13. Late registration is March 25\, and a fee may apply. For more information\, call Delvin Miller at 434-575-2016 or Michaeleen Palmore at 434-575-2022
X-ALT-DESC;FMTTYPE=text/html:11th and 12th Graders &nbsp\;loking for free money for college are encouraged to take the ACT. Those who score extremely well may have an oppurtunity to receive a scholarship. The test date is Saturday\, April 13. Late registration is March 25\, and a fee may apply. For more information\, call Delvin Miller at 434-575-2016 or Michaeleen Palmore at 434-575-2022
LOCATION:
UID:e.845.12382
SEQUENCE:3
DTSTAMP:20260421T075737Z
URL:https://business.halifaxchamber.net/events/details/act-testing-for-11th-and-12th-graders-12382
END:VEVENT

END:VCALENDAR
