BEGIN:VCALENDAR
VERSION:2.0
PRODID:-//ChamberMaster//Event Calendar 2.0//EN
METHOD:PUBLISH
X-PUBLISHED-TTL:P3D
REFRESH-INTERVAL:P3D
CALSCALE:GREGORIAN
BEGIN:VEVENT
DTSTART:20210204T163000Z
DTEND:20210204T173000Z
X-MICROSOFT-CDO-ALLDAYEVENT:FALSE
SUMMARY:Active Older Adult Learn to Paint Water Colors
DESCRIPTION:Come learn the basics of water color painting!  Be creative\, laugh and fellowship with friends!\n\nWith artist Margaret Covington!!! Margaret will guide participants through various basic water color painting techniques. ** Due to COVID participants must bring their own water color paints and brushes.  We will provide the rest.  \n\n\n\nWe meet every month\, the first Thursday of each month from 11:30-12:30pm.  Sometimes we're drawing\, sometimes we're painting. \n\n\n\nCall us today to reserve your spot (434)572-8909 or go online at www.ymcashr.org/reserve (due to COVID19 we cannot accept walk in's as we have a limited number of seats available in order to keep people as safe as possible).
X-ALT-DESC;FMTTYPE=text/html:Come learn the basics of water color painting!&nbsp\; Be creative\, laugh and fellowship with friends!<br />\nWith artist Margaret Covington!!!&nbsp\;Margaret will guide participants through&nbsp\;various basic water color painting techniques. ** Due to COVID participants must bring their own water color paints and brushes.&nbsp\; We will provide the rest.&nbsp\;&nbsp\;<br />\n<br />\nWe meet every month\, the first Thursday of each month from 11:30-12:30pm.&nbsp\; Sometimes we&#39\;re drawing\, sometimes we&#39\;re painting.&nbsp\;<br />\n<br />\nCall us today to reserve your spot (434)572-8909 or go online at www.ymcashr.org/reserve (due to COVID19 we cannot accept walk in&#39\;s as we have a limited number of seats available in order to keep people as safe as possible).&nbsp\;&nbsp\;
LOCATION:South Boston/Halifax County YMCA
UID:e.845.17825
SEQUENCE:3
DTSTAMP:20260419T184714Z
URL:https://business.halifaxchamber.net/events/details/active-older-adult-learn-to-paint-water-colors-17825
END:VEVENT

END:VCALENDAR
