BEGIN:VCALENDAR
VERSION:2.0
PRODID:-//ChamberMaster//Event Calendar 2.0//EN
METHOD:PUBLISH
X-PUBLISHED-TTL:P3D
REFRESH-INTERVAL:P3D
CALSCALE:GREGORIAN
BEGIN:VEVENT
DTSTART:20200311T233000Z
DTEND:20200312T003000Z
X-MICROSOFT-CDO-ALLDAYEVENT:FALSE
SUMMARY:Adam & Eve
DESCRIPTION:
X-ALT-DESC;FMTTYPE=text/html:
LOCATION:The Prizery 700 Bruce Street South Boston\, VA 24592
UID:e.845.17523
SEQUENCE:3
DTSTAMP:20260420T131826Z
URL:https://business.halifaxchamber.net/events/details/adam-eve-17523
END:VEVENT

END:VCALENDAR
