BEGIN:VCALENDAR
VERSION:2.0
PRODID:-//ChamberMaster//Event Calendar 2.0//EN
METHOD:PUBLISH
X-PUBLISHED-TTL:P3D
REFRESH-INTERVAL:P3D
CALSCALE:GREGORIAN
BEGIN:VEVENT
DTSTART:20190215T233000Z
DTEND:20190216T023000Z
X-MICROSOFT-CDO-ALLDAYEVENT:FALSE
SUMMARY:Adams Total Fitness Valentines Day Parents Night OUT
DESCRIPTION:Enjoy your date night! Drop off your kiddos for Pizza\, Games\, Balloons and More!\n\nCall or Drop by to get your spot!\n\n(Spots are limited)\n\n434-575-888\n\n$20 Per Participant\n\nNon Adams Total Fitness Members are welcome!
X-ALT-DESC;FMTTYPE=text/html:Enjoy your date night! Drop off your kiddos for Pizza\, Games\, Balloons and More!<br />\nCall or Drop by to get your spot!<br />\n(Spots are limited)<br />\n434-575-888<br />\n$20 Per Participant<br />\nNon Adams Total Fitness Members are welcome!
LOCATION:Adams Total Fitness 2000 Seymour Drive South Boston\, BVA 24592
UID:e.845.12025
SEQUENCE:3
DTSTAMP:20260423T085818Z
URL:https://business.halifaxchamber.net/events/details/adams-total-fitness-valentines-day-parents-night-out-12025
END:VEVENT

END:VCALENDAR
