BEGIN:VCALENDAR
VERSION:2.0
PRODID:-//ChamberMaster//Event Calendar 2.0//EN
METHOD:PUBLISH
X-PUBLISHED-TTL:P3D
REFRESH-INTERVAL:P3D
CALSCALE:GREGORIAN
BEGIN:VEVENT
DTSTART:20181108T223000Z
DTEND:20181109T000000Z
X-MICROSOFT-CDO-ALLDAYEVENT:FALSE
SUMMARY:Agritourism Ideas
DESCRIPTION:Agritourism is one of the most popular trends in small farms today. Some producers love to share their crops and pastures with guest\, often taking the opportunity to educate people about farming and ranching\, both conventional and alternative. Is this an enterprise that you have considered adding to your farm? If so\, you might be looking for ideas to make your agritourism venue unique. Yes\, pumpkins patches\, hay rides\, petting zoos\, bed and breakfasts\, etc. are all great examples. But maybe together we can brainstorm additional ideas.
X-ALT-DESC;FMTTYPE=text/html:Agritourism&nbsp\;is one of the most popular trends in small farms today. Some producers love to share their crops and pastures with guest\, often taking the opportunity&nbsp\;to educate people about farming and ranching\, both conventional and alternative. Is this an enterprise&nbsp\;that you have considered adding to your farm? If so\, you might be looking for ideas to make your agritourism&nbsp\;venue unique. Yes\, pumpkins patches\, hay rides\, petting zoos\, bed and breakfasts\, etc. are all great examples. But maybe together we can brainstorm additional ideas.
LOCATION:Halifax County Agricultural Marketing Center 1001 Farm Way Lane Scottsburg\, VA 24589
UID:e.845.8441
SEQUENCE:3
DTSTAMP:20260421T152641Z
URL:https://business.halifaxchamber.net/events/details/agritourism-ideas-8441
END:VEVENT

END:VCALENDAR
